BEGIN:VCALENDAR
VERSION:2.0
PRODID:-// - ECPv6.15.20//NONSGML v1.0//EN
CALSCALE:GREGORIAN
METHOD:PUBLISH
X-ORIGINAL-URL:https://athenscomedy.com
X-WR-CALDESC:Events for 
REFRESH-INTERVAL;VALUE=DURATION:PT1H
X-Robots-Tag:noindex
X-PUBLISHED-TTL:PT1H
BEGIN:VTIMEZONE
TZID:UTC
BEGIN:STANDARD
TZOFFSETFROM:+0000
TZOFFSETTO:+0000
TZNAME:UTC
DTSTART:20250101T000000
END:STANDARD
END:VTIMEZONE
BEGIN:VEVENT
DTSTART;TZID=UTC:20260419T180000
DTEND;TZID=UTC:20260419T200000
DTSTAMP:20260419T134435
CREATED:20231018T145020Z
LAST-MODIFIED:20250315T030106Z
UID:10008147-1776621600-1776628800@athenscomedy.com
SUMMARY:Open Mic at Mai Kai Kava Lounge
DESCRIPTION:Third Sunday of every month at 6pm.  List at 5:30
URL:https://athenscomedy.com/event/open-mic-at-mai-kai-kava-lounge/2026-04-19/
LOCATION:Mai Kai Kava Lounge\, 1035 Baxter St\, Athens\, GA\, GA\, 30606\, United States
ATTACH;FMTTYPE=image/jpeg:https://athenscomedy.com/wp-content/uploads/2023/10/106FCC50-8F7B-497B-8A9E-090511CB94B8.jpeg
END:VEVENT
BEGIN:VEVENT
DTSTART;TZID=UTC:20260419T210000
DTEND;TZID=UTC:20260419T223000
DTSTAMP:20260419T134435
CREATED:20250315T041736Z
LAST-MODIFIED:20250502T074746Z
UID:10009201-1776632400-1776637800@athenscomedy.com
SUMMARY:Off the Clock Comedy Upstairs at the Globe
DESCRIPTION:Join us every Sunday night at the Globe Upstairs for Off the Clock Comedy! see Headlining and Feature Standup Comedians from across the region along with your favorite local comedians every single week. This show features some of the best comedians from all across the southeast and beyond. Every week\, see new comics and enjoy Sunday night downtown at the Globe with plenty of Free Parking and drink specials at the bar.  Show at 9pm Doors at 8:30 \nTickets available at the bottom of the athenscomedy.com home page!
URL:https://athenscomedy.com/event/off-the-clock-comedy-upstairs-at-the-globe-2/2026-04-19/
LOCATION:Globe\, 199 S. Lumpkin St\, Athens\, 30601\, United States
ATTACH;FMTTYPE=image/png:https://athenscomedy.com/wp-content/uploads/2024/01/Untitled-design-copy.png
ORGANIZER;CN="Athens Comedy":MAILTO:behindthedial@gmail.com
END:VEVENT
END:VCALENDAR