BEGIN:VCALENDAR
VERSION:2.0
PRODID:-// - ECPv6.15.20//NONSGML v1.0//EN
CALSCALE:GREGORIAN
METHOD:PUBLISH
X-ORIGINAL-URL:https://athenscomedy.com
X-WR-CALDESC:Events for 
REFRESH-INTERVAL;VALUE=DURATION:PT1H
X-Robots-Tag:noindex
X-PUBLISHED-TTL:PT1H
BEGIN:VTIMEZONE
TZID:UTC
BEGIN:STANDARD
TZOFFSETFROM:+0000
TZOFFSETTO:+0000
TZNAME:UTC
DTSTART:20250101T000000
END:STANDARD
END:VTIMEZONE
BEGIN:VEVENT
DTSTART;TZID=UTC:20260420T210000
DTEND;TZID=UTC:20260420T230000
DTSTAMP:20260420T032252
CREATED:20240116T035044Z
LAST-MODIFIED:20240817T134825Z
UID:10006046-1776718800-1776726000@athenscomedy.com
SUMMARY:Wondermic Open Mic at Wonder Bar
DESCRIPTION:Come on out for some mic time on Mondays!   Show up and go up 9:30 pm start 9:00 list.
URL:https://athenscomedy.com/event/sake-bomb-open-mic-at-cozy-bar/2026-04-20/
LOCATION:Wonder Bar\, 240 East Washington St\, Athens\, GA\, United States
ATTACH;FMTTYPE=image/png:https://athenscomedy.com/wp-content/uploads/2024/01/OPEN-MIC-every-monday-930-start-9pm-list.png
ORGANIZER;CN="Athens Comedy":MAILTO:behindthedial@gmail.com
END:VEVENT
END:VCALENDAR