BEGIN:VCALENDAR
VERSION:2.0
PRODID:-// - ECPv6.15.20//NONSGML v1.0//EN
CALSCALE:GREGORIAN
METHOD:PUBLISH
X-ORIGINAL-URL:https://athenscomedy.com
X-WR-CALDESC:Events for 
REFRESH-INTERVAL;VALUE=DURATION:PT1H
X-Robots-Tag:noindex
X-PUBLISHED-TTL:PT1H
BEGIN:VTIMEZONE
TZID:UTC
BEGIN:STANDARD
TZOFFSETFROM:+0000
TZOFFSETTO:+0000
TZNAME:UTC
DTSTART:20270101T000000
END:STANDARD
END:VTIMEZONE
BEGIN:VEVENT
DTSTART;TZID=UTC:20280917T210000
DTEND;TZID=UTC:20280917T223000
DTSTAMP:20260419T151621
CREATED:20250315T041736Z
LAST-MODIFIED:20250502T074746Z
UID:10009298-1852837200-1852842600@athenscomedy.com
SUMMARY:Off the Clock Comedy Upstairs at the Globe
DESCRIPTION:Join us every Sunday night at the Globe Upstairs for Off the Clock Comedy! see Headlining and Feature Standup Comedians from across the region along with your favorite local comedians every single week. This show features some of the best comedians from all across the southeast and beyond. Every week\, see new comics and enjoy Sunday night downtown at the Globe with plenty of Free Parking and drink specials at the bar.  Show at 9pm Doors at 8:30 \nTickets available at the bottom of the athenscomedy.com home page!
URL:https://athenscomedy.com/event/off-the-clock-comedy-upstairs-at-the-globe-2/2028-09-17/
LOCATION:Globe\, 199 S. Lumpkin St\, Athens\, 30601\, United States
ATTACH;FMTTYPE=image/png:https://athenscomedy.com/wp-content/uploads/2024/01/Untitled-design-copy.png
ORGANIZER;CN="Athens Comedy":MAILTO:behindthedial@gmail.com
END:VEVENT
BEGIN:VEVENT
DTSTART;TZID=UTC:20280918T210000
DTEND;TZID=UTC:20280918T230000
DTSTAMP:20260419T151621
CREATED:20240116T035044Z
LAST-MODIFIED:20240817T134825Z
UID:10006172-1852923600-1852930800@athenscomedy.com
SUMMARY:Wondermic Open Mic at Wonder Bar
DESCRIPTION:Come on out for some mic time on Mondays!   Show up and go up 9:30 pm start 9:00 list.
URL:https://athenscomedy.com/event/sake-bomb-open-mic-at-cozy-bar/2028-09-18/
LOCATION:Wonder Bar\, 240 East Washington St\, Athens\, GA\, United States
ATTACH;FMTTYPE=image/png:https://athenscomedy.com/wp-content/uploads/2024/01/OPEN-MIC-every-monday-930-start-9pm-list.png
ORGANIZER;CN="Athens Comedy":MAILTO:behindthedial@gmail.com
END:VEVENT
BEGIN:VEVENT
DTSTART;TZID=UTC:20280924T210000
DTEND;TZID=UTC:20280924T223000
DTSTAMP:20260419T151621
CREATED:20250315T041736Z
LAST-MODIFIED:20250502T074746Z
UID:10005868-1853442000-1853447400@athenscomedy.com
SUMMARY:Off the Clock Comedy Upstairs at the Globe
DESCRIPTION:Join us every Sunday night at the Globe Upstairs for Off the Clock Comedy! see Headlining and Feature Standup Comedians from across the region along with your favorite local comedians every single week. This show features some of the best comedians from all across the southeast and beyond. Every week\, see new comics and enjoy Sunday night downtown at the Globe with plenty of Free Parking and drink specials at the bar.  Show at 9pm Doors at 8:30 \nTickets available at the bottom of the athenscomedy.com home page!
URL:https://athenscomedy.com/event/off-the-clock-comedy-upstairs-at-the-globe-2/2028-09-24/
LOCATION:Globe\, 199 S. Lumpkin St\, Athens\, 30601\, United States
ATTACH;FMTTYPE=image/png:https://athenscomedy.com/wp-content/uploads/2024/01/Untitled-design-copy.png
ORGANIZER;CN="Athens Comedy":MAILTO:behindthedial@gmail.com
END:VEVENT
BEGIN:VEVENT
DTSTART;TZID=UTC:20280925T210000
DTEND;TZID=UTC:20280925T230000
DTSTAMP:20260419T151621
CREATED:20240116T035044Z
LAST-MODIFIED:20240817T134825Z
UID:10006173-1853528400-1853535600@athenscomedy.com
SUMMARY:Wondermic Open Mic at Wonder Bar
DESCRIPTION:Come on out for some mic time on Mondays!   Show up and go up 9:30 pm start 9:00 list.
URL:https://athenscomedy.com/event/sake-bomb-open-mic-at-cozy-bar/2028-09-25/
LOCATION:Wonder Bar\, 240 East Washington St\, Athens\, GA\, United States
ATTACH;FMTTYPE=image/png:https://athenscomedy.com/wp-content/uploads/2024/01/OPEN-MIC-every-monday-930-start-9pm-list.png
ORGANIZER;CN="Athens Comedy":MAILTO:behindthedial@gmail.com
END:VEVENT
BEGIN:VEVENT
DTSTART;TZID=UTC:20281001T210000
DTEND;TZID=UTC:20281001T223000
DTSTAMP:20260419T151621
CREATED:20250315T041736Z
LAST-MODIFIED:20250502T074746Z
UID:10009299-1854046800-1854052200@athenscomedy.com
SUMMARY:Off the Clock Comedy Upstairs at the Globe
DESCRIPTION:Join us every Sunday night at the Globe Upstairs for Off the Clock Comedy! see Headlining and Feature Standup Comedians from across the region along with your favorite local comedians every single week. This show features some of the best comedians from all across the southeast and beyond. Every week\, see new comics and enjoy Sunday night downtown at the Globe with plenty of Free Parking and drink specials at the bar.  Show at 9pm Doors at 8:30 \nTickets available at the bottom of the athenscomedy.com home page!
URL:https://athenscomedy.com/event/off-the-clock-comedy-upstairs-at-the-globe-2/2028-10-01/
LOCATION:Globe\, 199 S. Lumpkin St\, Athens\, 30601\, United States
ATTACH;FMTTYPE=image/png:https://athenscomedy.com/wp-content/uploads/2024/01/Untitled-design-copy.png
ORGANIZER;CN="Athens Comedy":MAILTO:behindthedial@gmail.com
END:VEVENT
BEGIN:VEVENT
DTSTART;TZID=UTC:20281002T210000
DTEND;TZID=UTC:20281002T230000
DTSTAMP:20260419T151621
CREATED:20240116T035044Z
LAST-MODIFIED:20240817T134825Z
UID:10006174-1854133200-1854140400@athenscomedy.com
SUMMARY:Wondermic Open Mic at Wonder Bar
DESCRIPTION:Come on out for some mic time on Mondays!   Show up and go up 9:30 pm start 9:00 list.
URL:https://athenscomedy.com/event/sake-bomb-open-mic-at-cozy-bar/2028-10-02/
LOCATION:Wonder Bar\, 240 East Washington St\, Athens\, GA\, United States
ATTACH;FMTTYPE=image/png:https://athenscomedy.com/wp-content/uploads/2024/01/OPEN-MIC-every-monday-930-start-9pm-list.png
ORGANIZER;CN="Athens Comedy":MAILTO:behindthedial@gmail.com
END:VEVENT
BEGIN:VEVENT
DTSTART;TZID=UTC:20281008T210000
DTEND;TZID=UTC:20281008T223000
DTSTAMP:20260419T151621
CREATED:20250315T041736Z
LAST-MODIFIED:20250502T074746Z
UID:10009300-1854651600-1854657000@athenscomedy.com
SUMMARY:Off the Clock Comedy Upstairs at the Globe
DESCRIPTION:Join us every Sunday night at the Globe Upstairs for Off the Clock Comedy! see Headlining and Feature Standup Comedians from across the region along with your favorite local comedians every single week. This show features some of the best comedians from all across the southeast and beyond. Every week\, see new comics and enjoy Sunday night downtown at the Globe with plenty of Free Parking and drink specials at the bar.  Show at 9pm Doors at 8:30 \nTickets available at the bottom of the athenscomedy.com home page!
URL:https://athenscomedy.com/event/off-the-clock-comedy-upstairs-at-the-globe-2/2028-10-08/
LOCATION:Globe\, 199 S. Lumpkin St\, Athens\, 30601\, United States
ATTACH;FMTTYPE=image/png:https://athenscomedy.com/wp-content/uploads/2024/01/Untitled-design-copy.png
ORGANIZER;CN="Athens Comedy":MAILTO:behindthedial@gmail.com
END:VEVENT
BEGIN:VEVENT
DTSTART;TZID=UTC:20281009T210000
DTEND;TZID=UTC:20281009T230000
DTSTAMP:20260419T151621
CREATED:20240116T035044Z
LAST-MODIFIED:20240817T134825Z
UID:10006175-1854738000-1854745200@athenscomedy.com
SUMMARY:Wondermic Open Mic at Wonder Bar
DESCRIPTION:Come on out for some mic time on Mondays!   Show up and go up 9:30 pm start 9:00 list.
URL:https://athenscomedy.com/event/sake-bomb-open-mic-at-cozy-bar/2028-10-09/
LOCATION:Wonder Bar\, 240 East Washington St\, Athens\, GA\, United States
ATTACH;FMTTYPE=image/png:https://athenscomedy.com/wp-content/uploads/2024/01/OPEN-MIC-every-monday-930-start-9pm-list.png
ORGANIZER;CN="Athens Comedy":MAILTO:behindthedial@gmail.com
END:VEVENT
BEGIN:VEVENT
DTSTART;TZID=UTC:20281015T210000
DTEND;TZID=UTC:20281015T223000
DTSTAMP:20260419T151621
CREATED:20250315T041736Z
LAST-MODIFIED:20250502T074746Z
UID:10009301-1855256400-1855261800@athenscomedy.com
SUMMARY:Off the Clock Comedy Upstairs at the Globe
DESCRIPTION:Join us every Sunday night at the Globe Upstairs for Off the Clock Comedy! see Headlining and Feature Standup Comedians from across the region along with your favorite local comedians every single week. This show features some of the best comedians from all across the southeast and beyond. Every week\, see new comics and enjoy Sunday night downtown at the Globe with plenty of Free Parking and drink specials at the bar.  Show at 9pm Doors at 8:30 \nTickets available at the bottom of the athenscomedy.com home page!
URL:https://athenscomedy.com/event/off-the-clock-comedy-upstairs-at-the-globe-2/2028-10-15/
LOCATION:Globe\, 199 S. Lumpkin St\, Athens\, 30601\, United States
ATTACH;FMTTYPE=image/png:https://athenscomedy.com/wp-content/uploads/2024/01/Untitled-design-copy.png
ORGANIZER;CN="Athens Comedy":MAILTO:behindthedial@gmail.com
END:VEVENT
BEGIN:VEVENT
DTSTART;TZID=UTC:20281016T210000
DTEND;TZID=UTC:20281016T230000
DTSTAMP:20260419T151621
CREATED:20240116T035044Z
LAST-MODIFIED:20240817T134825Z
UID:10006176-1855342800-1855350000@athenscomedy.com
SUMMARY:Wondermic Open Mic at Wonder Bar
DESCRIPTION:Come on out for some mic time on Mondays!   Show up and go up 9:30 pm start 9:00 list.
URL:https://athenscomedy.com/event/sake-bomb-open-mic-at-cozy-bar/2028-10-16/
LOCATION:Wonder Bar\, 240 East Washington St\, Athens\, GA\, United States
ATTACH;FMTTYPE=image/png:https://athenscomedy.com/wp-content/uploads/2024/01/OPEN-MIC-every-monday-930-start-9pm-list.png
ORGANIZER;CN="Athens Comedy":MAILTO:behindthedial@gmail.com
END:VEVENT
BEGIN:VEVENT
DTSTART;TZID=UTC:20281022T210000
DTEND;TZID=UTC:20281022T223000
DTSTAMP:20260419T151621
CREATED:20250315T041736Z
LAST-MODIFIED:20250502T074746Z
UID:10005872-1855861200-1855866600@athenscomedy.com
SUMMARY:Off the Clock Comedy Upstairs at the Globe
DESCRIPTION:Join us every Sunday night at the Globe Upstairs for Off the Clock Comedy! see Headlining and Feature Standup Comedians from across the region along with your favorite local comedians every single week. This show features some of the best comedians from all across the southeast and beyond. Every week\, see new comics and enjoy Sunday night downtown at the Globe with plenty of Free Parking and drink specials at the bar.  Show at 9pm Doors at 8:30 \nTickets available at the bottom of the athenscomedy.com home page!
URL:https://athenscomedy.com/event/off-the-clock-comedy-upstairs-at-the-globe-2/2028-10-22/
LOCATION:Globe\, 199 S. Lumpkin St\, Athens\, 30601\, United States
ATTACH;FMTTYPE=image/png:https://athenscomedy.com/wp-content/uploads/2024/01/Untitled-design-copy.png
ORGANIZER;CN="Athens Comedy":MAILTO:behindthedial@gmail.com
END:VEVENT
BEGIN:VEVENT
DTSTART;TZID=UTC:20281023T210000
DTEND;TZID=UTC:20281023T230000
DTSTAMP:20260419T151621
CREATED:20240116T035044Z
LAST-MODIFIED:20240817T134825Z
UID:10006177-1855947600-1855954800@athenscomedy.com
SUMMARY:Wondermic Open Mic at Wonder Bar
DESCRIPTION:Come on out for some mic time on Mondays!   Show up and go up 9:30 pm start 9:00 list.
URL:https://athenscomedy.com/event/sake-bomb-open-mic-at-cozy-bar/2028-10-23/
LOCATION:Wonder Bar\, 240 East Washington St\, Athens\, GA\, United States
ATTACH;FMTTYPE=image/png:https://athenscomedy.com/wp-content/uploads/2024/01/OPEN-MIC-every-monday-930-start-9pm-list.png
ORGANIZER;CN="Athens Comedy":MAILTO:behindthedial@gmail.com
END:VEVENT
BEGIN:VEVENT
DTSTART;TZID=UTC:20281029T210000
DTEND;TZID=UTC:20281029T223000
DTSTAMP:20260419T151621
CREATED:20250315T041736Z
LAST-MODIFIED:20250502T074746Z
UID:10009302-1856466000-1856471400@athenscomedy.com
SUMMARY:Off the Clock Comedy Upstairs at the Globe
DESCRIPTION:Join us every Sunday night at the Globe Upstairs for Off the Clock Comedy! see Headlining and Feature Standup Comedians from across the region along with your favorite local comedians every single week. This show features some of the best comedians from all across the southeast and beyond. Every week\, see new comics and enjoy Sunday night downtown at the Globe with plenty of Free Parking and drink specials at the bar.  Show at 9pm Doors at 8:30 \nTickets available at the bottom of the athenscomedy.com home page!
URL:https://athenscomedy.com/event/off-the-clock-comedy-upstairs-at-the-globe-2/2028-10-29/
LOCATION:Globe\, 199 S. Lumpkin St\, Athens\, 30601\, United States
ATTACH;FMTTYPE=image/png:https://athenscomedy.com/wp-content/uploads/2024/01/Untitled-design-copy.png
ORGANIZER;CN="Athens Comedy":MAILTO:behindthedial@gmail.com
END:VEVENT
BEGIN:VEVENT
DTSTART;TZID=UTC:20281030T210000
DTEND;TZID=UTC:20281030T230000
DTSTAMP:20260419T151621
CREATED:20240116T035044Z
LAST-MODIFIED:20240817T134825Z
UID:10006178-1856552400-1856559600@athenscomedy.com
SUMMARY:Wondermic Open Mic at Wonder Bar
DESCRIPTION:Come on out for some mic time on Mondays!   Show up and go up 9:30 pm start 9:00 list.
URL:https://athenscomedy.com/event/sake-bomb-open-mic-at-cozy-bar/2028-10-30/
LOCATION:Wonder Bar\, 240 East Washington St\, Athens\, GA\, United States
ATTACH;FMTTYPE=image/png:https://athenscomedy.com/wp-content/uploads/2024/01/OPEN-MIC-every-monday-930-start-9pm-list.png
ORGANIZER;CN="Athens Comedy":MAILTO:behindthedial@gmail.com
END:VEVENT
BEGIN:VEVENT
DTSTART;TZID=UTC:20281105T210000
DTEND;TZID=UTC:20281105T223000
DTSTAMP:20260419T151621
CREATED:20250315T041736Z
LAST-MODIFIED:20250502T074746Z
UID:10009303-1857070800-1857076200@athenscomedy.com
SUMMARY:Off the Clock Comedy Upstairs at the Globe
DESCRIPTION:Join us every Sunday night at the Globe Upstairs for Off the Clock Comedy! see Headlining and Feature Standup Comedians from across the region along with your favorite local comedians every single week. This show features some of the best comedians from all across the southeast and beyond. Every week\, see new comics and enjoy Sunday night downtown at the Globe with plenty of Free Parking and drink specials at the bar.  Show at 9pm Doors at 8:30 \nTickets available at the bottom of the athenscomedy.com home page!
URL:https://athenscomedy.com/event/off-the-clock-comedy-upstairs-at-the-globe-2/2028-11-05/
LOCATION:Globe\, 199 S. Lumpkin St\, Athens\, 30601\, United States
ATTACH;FMTTYPE=image/png:https://athenscomedy.com/wp-content/uploads/2024/01/Untitled-design-copy.png
ORGANIZER;CN="Athens Comedy":MAILTO:behindthedial@gmail.com
END:VEVENT
BEGIN:VEVENT
DTSTART;TZID=UTC:20281106T210000
DTEND;TZID=UTC:20281106T230000
DTSTAMP:20260419T151621
CREATED:20240116T035044Z
LAST-MODIFIED:20240817T134825Z
UID:10006179-1857157200-1857164400@athenscomedy.com
SUMMARY:Wondermic Open Mic at Wonder Bar
DESCRIPTION:Come on out for some mic time on Mondays!   Show up and go up 9:30 pm start 9:00 list.
URL:https://athenscomedy.com/event/sake-bomb-open-mic-at-cozy-bar/2028-11-06/
LOCATION:Wonder Bar\, 240 East Washington St\, Athens\, GA\, United States
ATTACH;FMTTYPE=image/png:https://athenscomedy.com/wp-content/uploads/2024/01/OPEN-MIC-every-monday-930-start-9pm-list.png
ORGANIZER;CN="Athens Comedy":MAILTO:behindthedial@gmail.com
END:VEVENT
BEGIN:VEVENT
DTSTART;TZID=UTC:20281112T210000
DTEND;TZID=UTC:20281112T223000
DTSTAMP:20260419T151621
CREATED:20250315T041736Z
LAST-MODIFIED:20250502T074746Z
UID:10009304-1857675600-1857681000@athenscomedy.com
SUMMARY:Off the Clock Comedy Upstairs at the Globe
DESCRIPTION:Join us every Sunday night at the Globe Upstairs for Off the Clock Comedy! see Headlining and Feature Standup Comedians from across the region along with your favorite local comedians every single week. This show features some of the best comedians from all across the southeast and beyond. Every week\, see new comics and enjoy Sunday night downtown at the Globe with plenty of Free Parking and drink specials at the bar.  Show at 9pm Doors at 8:30 \nTickets available at the bottom of the athenscomedy.com home page!
URL:https://athenscomedy.com/event/off-the-clock-comedy-upstairs-at-the-globe-2/2028-11-12/
LOCATION:Globe\, 199 S. Lumpkin St\, Athens\, 30601\, United States
ATTACH;FMTTYPE=image/png:https://athenscomedy.com/wp-content/uploads/2024/01/Untitled-design-copy.png
ORGANIZER;CN="Athens Comedy":MAILTO:behindthedial@gmail.com
END:VEVENT
BEGIN:VEVENT
DTSTART;TZID=UTC:20281113T210000
DTEND;TZID=UTC:20281113T230000
DTSTAMP:20260419T151621
CREATED:20240116T035044Z
LAST-MODIFIED:20240817T134825Z
UID:10006180-1857762000-1857769200@athenscomedy.com
SUMMARY:Wondermic Open Mic at Wonder Bar
DESCRIPTION:Come on out for some mic time on Mondays!   Show up and go up 9:30 pm start 9:00 list.
URL:https://athenscomedy.com/event/sake-bomb-open-mic-at-cozy-bar/2028-11-13/
LOCATION:Wonder Bar\, 240 East Washington St\, Athens\, GA\, United States
ATTACH;FMTTYPE=image/png:https://athenscomedy.com/wp-content/uploads/2024/01/OPEN-MIC-every-monday-930-start-9pm-list.png
ORGANIZER;CN="Athens Comedy":MAILTO:behindthedial@gmail.com
END:VEVENT
BEGIN:VEVENT
DTSTART;TZID=UTC:20281119T210000
DTEND;TZID=UTC:20281119T223000
DTSTAMP:20260419T151621
CREATED:20250315T041736Z
LAST-MODIFIED:20250502T074746Z
UID:10009305-1858280400-1858285800@athenscomedy.com
SUMMARY:Off the Clock Comedy Upstairs at the Globe
DESCRIPTION:Join us every Sunday night at the Globe Upstairs for Off the Clock Comedy! see Headlining and Feature Standup Comedians from across the region along with your favorite local comedians every single week. This show features some of the best comedians from all across the southeast and beyond. Every week\, see new comics and enjoy Sunday night downtown at the Globe with plenty of Free Parking and drink specials at the bar.  Show at 9pm Doors at 8:30 \nTickets available at the bottom of the athenscomedy.com home page!
URL:https://athenscomedy.com/event/off-the-clock-comedy-upstairs-at-the-globe-2/2028-11-19/
LOCATION:Globe\, 199 S. Lumpkin St\, Athens\, 30601\, United States
ATTACH;FMTTYPE=image/png:https://athenscomedy.com/wp-content/uploads/2024/01/Untitled-design-copy.png
ORGANIZER;CN="Athens Comedy":MAILTO:behindthedial@gmail.com
END:VEVENT
BEGIN:VEVENT
DTSTART;TZID=UTC:20281120T210000
DTEND;TZID=UTC:20281120T230000
DTSTAMP:20260419T151621
CREATED:20240116T035044Z
LAST-MODIFIED:20240817T134825Z
UID:10006181-1858366800-1858374000@athenscomedy.com
SUMMARY:Wondermic Open Mic at Wonder Bar
DESCRIPTION:Come on out for some mic time on Mondays!   Show up and go up 9:30 pm start 9:00 list.
URL:https://athenscomedy.com/event/sake-bomb-open-mic-at-cozy-bar/2028-11-20/
LOCATION:Wonder Bar\, 240 East Washington St\, Athens\, GA\, United States
ATTACH;FMTTYPE=image/png:https://athenscomedy.com/wp-content/uploads/2024/01/OPEN-MIC-every-monday-930-start-9pm-list.png
ORGANIZER;CN="Athens Comedy":MAILTO:behindthedial@gmail.com
END:VEVENT
BEGIN:VEVENT
DTSTART;TZID=UTC:20281126T210000
DTEND;TZID=UTC:20281126T223000
DTSTAMP:20260419T151621
CREATED:20250315T041736Z
LAST-MODIFIED:20250502T074746Z
UID:10005877-1858885200-1858890600@athenscomedy.com
SUMMARY:Off the Clock Comedy Upstairs at the Globe
DESCRIPTION:Join us every Sunday night at the Globe Upstairs for Off the Clock Comedy! see Headlining and Feature Standup Comedians from across the region along with your favorite local comedians every single week. This show features some of the best comedians from all across the southeast and beyond. Every week\, see new comics and enjoy Sunday night downtown at the Globe with plenty of Free Parking and drink specials at the bar.  Show at 9pm Doors at 8:30 \nTickets available at the bottom of the athenscomedy.com home page!
URL:https://athenscomedy.com/event/off-the-clock-comedy-upstairs-at-the-globe-2/2028-11-26/
LOCATION:Globe\, 199 S. Lumpkin St\, Athens\, 30601\, United States
ATTACH;FMTTYPE=image/png:https://athenscomedy.com/wp-content/uploads/2024/01/Untitled-design-copy.png
ORGANIZER;CN="Athens Comedy":MAILTO:behindthedial@gmail.com
END:VEVENT
BEGIN:VEVENT
DTSTART;TZID=UTC:20281127T210000
DTEND;TZID=UTC:20281127T230000
DTSTAMP:20260419T151621
CREATED:20240116T035044Z
LAST-MODIFIED:20240817T134825Z
UID:10006182-1858971600-1858978800@athenscomedy.com
SUMMARY:Wondermic Open Mic at Wonder Bar
DESCRIPTION:Come on out for some mic time on Mondays!   Show up and go up 9:30 pm start 9:00 list.
URL:https://athenscomedy.com/event/sake-bomb-open-mic-at-cozy-bar/2028-11-27/
LOCATION:Wonder Bar\, 240 East Washington St\, Athens\, GA\, United States
ATTACH;FMTTYPE=image/png:https://athenscomedy.com/wp-content/uploads/2024/01/OPEN-MIC-every-monday-930-start-9pm-list.png
ORGANIZER;CN="Athens Comedy":MAILTO:behindthedial@gmail.com
END:VEVENT
BEGIN:VEVENT
DTSTART;TZID=UTC:20281203T210000
DTEND;TZID=UTC:20281203T223000
DTSTAMP:20260419T151621
CREATED:20250315T041736Z
LAST-MODIFIED:20250502T074746Z
UID:10009306-1859490000-1859495400@athenscomedy.com
SUMMARY:Off the Clock Comedy Upstairs at the Globe
DESCRIPTION:Join us every Sunday night at the Globe Upstairs for Off the Clock Comedy! see Headlining and Feature Standup Comedians from across the region along with your favorite local comedians every single week. This show features some of the best comedians from all across the southeast and beyond. Every week\, see new comics and enjoy Sunday night downtown at the Globe with plenty of Free Parking and drink specials at the bar.  Show at 9pm Doors at 8:30 \nTickets available at the bottom of the athenscomedy.com home page!
URL:https://athenscomedy.com/event/off-the-clock-comedy-upstairs-at-the-globe-2/2028-12-03/
LOCATION:Globe\, 199 S. Lumpkin St\, Athens\, 30601\, United States
ATTACH;FMTTYPE=image/png:https://athenscomedy.com/wp-content/uploads/2024/01/Untitled-design-copy.png
ORGANIZER;CN="Athens Comedy":MAILTO:behindthedial@gmail.com
END:VEVENT
BEGIN:VEVENT
DTSTART;TZID=UTC:20281204T210000
DTEND;TZID=UTC:20281204T230000
DTSTAMP:20260419T151621
CREATED:20240116T035044Z
LAST-MODIFIED:20240817T134825Z
UID:10006183-1859576400-1859583600@athenscomedy.com
SUMMARY:Wondermic Open Mic at Wonder Bar
DESCRIPTION:Come on out for some mic time on Mondays!   Show up and go up 9:30 pm start 9:00 list.
URL:https://athenscomedy.com/event/sake-bomb-open-mic-at-cozy-bar/2028-12-04/
LOCATION:Wonder Bar\, 240 East Washington St\, Athens\, GA\, United States
ATTACH;FMTTYPE=image/png:https://athenscomedy.com/wp-content/uploads/2024/01/OPEN-MIC-every-monday-930-start-9pm-list.png
ORGANIZER;CN="Athens Comedy":MAILTO:behindthedial@gmail.com
END:VEVENT
BEGIN:VEVENT
DTSTART;TZID=UTC:20281210T210000
DTEND;TZID=UTC:20281210T223000
DTSTAMP:20260419T151621
CREATED:20250315T041736Z
LAST-MODIFIED:20250502T074746Z
UID:10009307-1860094800-1860100200@athenscomedy.com
SUMMARY:Off the Clock Comedy Upstairs at the Globe
DESCRIPTION:Join us every Sunday night at the Globe Upstairs for Off the Clock Comedy! see Headlining and Feature Standup Comedians from across the region along with your favorite local comedians every single week. This show features some of the best comedians from all across the southeast and beyond. Every week\, see new comics and enjoy Sunday night downtown at the Globe with plenty of Free Parking and drink specials at the bar.  Show at 9pm Doors at 8:30 \nTickets available at the bottom of the athenscomedy.com home page!
URL:https://athenscomedy.com/event/off-the-clock-comedy-upstairs-at-the-globe-2/2028-12-10/
LOCATION:Globe\, 199 S. Lumpkin St\, Athens\, 30601\, United States
ATTACH;FMTTYPE=image/png:https://athenscomedy.com/wp-content/uploads/2024/01/Untitled-design-copy.png
ORGANIZER;CN="Athens Comedy":MAILTO:behindthedial@gmail.com
END:VEVENT
BEGIN:VEVENT
DTSTART;TZID=UTC:20281211T210000
DTEND;TZID=UTC:20281211T230000
DTSTAMP:20260419T151621
CREATED:20240116T035044Z
LAST-MODIFIED:20240817T134825Z
UID:10006184-1860181200-1860188400@athenscomedy.com
SUMMARY:Wondermic Open Mic at Wonder Bar
DESCRIPTION:Come on out for some mic time on Mondays!   Show up and go up 9:30 pm start 9:00 list.
URL:https://athenscomedy.com/event/sake-bomb-open-mic-at-cozy-bar/2028-12-11/
LOCATION:Wonder Bar\, 240 East Washington St\, Athens\, GA\, United States
ATTACH;FMTTYPE=image/png:https://athenscomedy.com/wp-content/uploads/2024/01/OPEN-MIC-every-monday-930-start-9pm-list.png
ORGANIZER;CN="Athens Comedy":MAILTO:behindthedial@gmail.com
END:VEVENT
BEGIN:VEVENT
DTSTART;TZID=UTC:20281217T210000
DTEND;TZID=UTC:20281217T223000
DTSTAMP:20260419T151621
CREATED:20250315T041736Z
LAST-MODIFIED:20250502T074746Z
UID:10009308-1860699600-1860705000@athenscomedy.com
SUMMARY:Off the Clock Comedy Upstairs at the Globe
DESCRIPTION:Join us every Sunday night at the Globe Upstairs for Off the Clock Comedy! see Headlining and Feature Standup Comedians from across the region along with your favorite local comedians every single week. This show features some of the best comedians from all across the southeast and beyond. Every week\, see new comics and enjoy Sunday night downtown at the Globe with plenty of Free Parking and drink specials at the bar.  Show at 9pm Doors at 8:30 \nTickets available at the bottom of the athenscomedy.com home page!
URL:https://athenscomedy.com/event/off-the-clock-comedy-upstairs-at-the-globe-2/2028-12-17/
LOCATION:Globe\, 199 S. Lumpkin St\, Athens\, 30601\, United States
ATTACH;FMTTYPE=image/png:https://athenscomedy.com/wp-content/uploads/2024/01/Untitled-design-copy.png
ORGANIZER;CN="Athens Comedy":MAILTO:behindthedial@gmail.com
END:VEVENT
BEGIN:VEVENT
DTSTART;TZID=UTC:20281218T210000
DTEND;TZID=UTC:20281218T230000
DTSTAMP:20260419T151621
CREATED:20240116T035044Z
LAST-MODIFIED:20240817T134825Z
UID:10006185-1860786000-1860793200@athenscomedy.com
SUMMARY:Wondermic Open Mic at Wonder Bar
DESCRIPTION:Come on out for some mic time on Mondays!   Show up and go up 9:30 pm start 9:00 list.
URL:https://athenscomedy.com/event/sake-bomb-open-mic-at-cozy-bar/2028-12-18/
LOCATION:Wonder Bar\, 240 East Washington St\, Athens\, GA\, United States
ATTACH;FMTTYPE=image/png:https://athenscomedy.com/wp-content/uploads/2024/01/OPEN-MIC-every-monday-930-start-9pm-list.png
ORGANIZER;CN="Athens Comedy":MAILTO:behindthedial@gmail.com
END:VEVENT
BEGIN:VEVENT
DTSTART;TZID=UTC:20281224T210000
DTEND;TZID=UTC:20281224T223000
DTSTAMP:20260419T151621
CREATED:20250315T041736Z
LAST-MODIFIED:20250502T074746Z
UID:10005881-1861304400-1861309800@athenscomedy.com
SUMMARY:Off the Clock Comedy Upstairs at the Globe
DESCRIPTION:Join us every Sunday night at the Globe Upstairs for Off the Clock Comedy! see Headlining and Feature Standup Comedians from across the region along with your favorite local comedians every single week. This show features some of the best comedians from all across the southeast and beyond. Every week\, see new comics and enjoy Sunday night downtown at the Globe with plenty of Free Parking and drink specials at the bar.  Show at 9pm Doors at 8:30 \nTickets available at the bottom of the athenscomedy.com home page!
URL:https://athenscomedy.com/event/off-the-clock-comedy-upstairs-at-the-globe-2/2028-12-24/
LOCATION:Globe\, 199 S. Lumpkin St\, Athens\, 30601\, United States
ATTACH;FMTTYPE=image/png:https://athenscomedy.com/wp-content/uploads/2024/01/Untitled-design-copy.png
ORGANIZER;CN="Athens Comedy":MAILTO:behindthedial@gmail.com
END:VEVENT
BEGIN:VEVENT
DTSTART;TZID=UTC:20281225T210000
DTEND;TZID=UTC:20281225T230000
DTSTAMP:20260419T151621
CREATED:20240116T035044Z
LAST-MODIFIED:20240817T134825Z
UID:10006186-1861390800-1861398000@athenscomedy.com
SUMMARY:Wondermic Open Mic at Wonder Bar
DESCRIPTION:Come on out for some mic time on Mondays!   Show up and go up 9:30 pm start 9:00 list.
URL:https://athenscomedy.com/event/sake-bomb-open-mic-at-cozy-bar/2028-12-25/
LOCATION:Wonder Bar\, 240 East Washington St\, Athens\, GA\, United States
ATTACH;FMTTYPE=image/png:https://athenscomedy.com/wp-content/uploads/2024/01/OPEN-MIC-every-monday-930-start-9pm-list.png
ORGANIZER;CN="Athens Comedy":MAILTO:behindthedial@gmail.com
END:VEVENT
END:VCALENDAR