BEGIN:VCALENDAR
VERSION:2.0
PRODID:-// - ECPv6.15.20//NONSGML v1.0//EN
CALSCALE:GREGORIAN
METHOD:PUBLISH
X-ORIGINAL-URL:https://athenscomedy.com
X-WR-CALDESC:Events for 
REFRESH-INTERVAL;VALUE=DURATION:PT1H
X-Robots-Tag:noindex
X-PUBLISHED-TTL:PT1H
BEGIN:VTIMEZONE
TZID:UTC
BEGIN:STANDARD
TZOFFSETFROM:+0000
TZOFFSETTO:+0000
TZNAME:UTC
DTSTART:20270101T000000
END:STANDARD
END:VTIMEZONE
BEGIN:VEVENT
DTSTART;TZID=UTC:20281210T210000
DTEND;TZID=UTC:20281210T223000
DTSTAMP:20260419T184201
CREATED:20250315T041736Z
LAST-MODIFIED:20250502T074746Z
UID:10009307-1860094800-1860100200@athenscomedy.com
SUMMARY:Off the Clock Comedy Upstairs at the Globe
DESCRIPTION:Join us every Sunday night at the Globe Upstairs for Off the Clock Comedy! see Headlining and Feature Standup Comedians from across the region along with your favorite local comedians every single week. This show features some of the best comedians from all across the southeast and beyond. Every week\, see new comics and enjoy Sunday night downtown at the Globe with plenty of Free Parking and drink specials at the bar.  Show at 9pm Doors at 8:30 \nTickets available at the bottom of the athenscomedy.com home page!
URL:https://athenscomedy.com/event/off-the-clock-comedy-upstairs-at-the-globe-2/2028-12-10/
LOCATION:Globe\, 199 S. Lumpkin St\, Athens\, 30601\, United States
ATTACH;FMTTYPE=image/png:https://athenscomedy.com/wp-content/uploads/2024/01/Untitled-design-copy.png
ORGANIZER;CN="Athens Comedy":MAILTO:behindthedial@gmail.com
END:VEVENT
BEGIN:VEVENT
DTSTART;TZID=UTC:20281211T210000
DTEND;TZID=UTC:20281211T230000
DTSTAMP:20260419T184201
CREATED:20240116T035044Z
LAST-MODIFIED:20240817T134825Z
UID:10006184-1860181200-1860188400@athenscomedy.com
SUMMARY:Wondermic Open Mic at Wonder Bar
DESCRIPTION:Come on out for some mic time on Mondays!   Show up and go up 9:30 pm start 9:00 list.
URL:https://athenscomedy.com/event/sake-bomb-open-mic-at-cozy-bar/2028-12-11/
LOCATION:Wonder Bar\, 240 East Washington St\, Athens\, GA\, United States
ATTACH;FMTTYPE=image/png:https://athenscomedy.com/wp-content/uploads/2024/01/OPEN-MIC-every-monday-930-start-9pm-list.png
ORGANIZER;CN="Athens Comedy":MAILTO:behindthedial@gmail.com
END:VEVENT
BEGIN:VEVENT
DTSTART;TZID=UTC:20281217T210000
DTEND;TZID=UTC:20281217T223000
DTSTAMP:20260419T184201
CREATED:20250315T041736Z
LAST-MODIFIED:20250502T074746Z
UID:10009308-1860699600-1860705000@athenscomedy.com
SUMMARY:Off the Clock Comedy Upstairs at the Globe
DESCRIPTION:Join us every Sunday night at the Globe Upstairs for Off the Clock Comedy! see Headlining and Feature Standup Comedians from across the region along with your favorite local comedians every single week. This show features some of the best comedians from all across the southeast and beyond. Every week\, see new comics and enjoy Sunday night downtown at the Globe with plenty of Free Parking and drink specials at the bar.  Show at 9pm Doors at 8:30 \nTickets available at the bottom of the athenscomedy.com home page!
URL:https://athenscomedy.com/event/off-the-clock-comedy-upstairs-at-the-globe-2/2028-12-17/
LOCATION:Globe\, 199 S. Lumpkin St\, Athens\, 30601\, United States
ATTACH;FMTTYPE=image/png:https://athenscomedy.com/wp-content/uploads/2024/01/Untitled-design-copy.png
ORGANIZER;CN="Athens Comedy":MAILTO:behindthedial@gmail.com
END:VEVENT
BEGIN:VEVENT
DTSTART;TZID=UTC:20281218T210000
DTEND;TZID=UTC:20281218T230000
DTSTAMP:20260419T184201
CREATED:20240116T035044Z
LAST-MODIFIED:20240817T134825Z
UID:10006185-1860786000-1860793200@athenscomedy.com
SUMMARY:Wondermic Open Mic at Wonder Bar
DESCRIPTION:Come on out for some mic time on Mondays!   Show up and go up 9:30 pm start 9:00 list.
URL:https://athenscomedy.com/event/sake-bomb-open-mic-at-cozy-bar/2028-12-18/
LOCATION:Wonder Bar\, 240 East Washington St\, Athens\, GA\, United States
ATTACH;FMTTYPE=image/png:https://athenscomedy.com/wp-content/uploads/2024/01/OPEN-MIC-every-monday-930-start-9pm-list.png
ORGANIZER;CN="Athens Comedy":MAILTO:behindthedial@gmail.com
END:VEVENT
BEGIN:VEVENT
DTSTART;TZID=UTC:20281224T210000
DTEND;TZID=UTC:20281224T223000
DTSTAMP:20260419T184201
CREATED:20250315T041736Z
LAST-MODIFIED:20250502T074746Z
UID:10005881-1861304400-1861309800@athenscomedy.com
SUMMARY:Off the Clock Comedy Upstairs at the Globe
DESCRIPTION:Join us every Sunday night at the Globe Upstairs for Off the Clock Comedy! see Headlining and Feature Standup Comedians from across the region along with your favorite local comedians every single week. This show features some of the best comedians from all across the southeast and beyond. Every week\, see new comics and enjoy Sunday night downtown at the Globe with plenty of Free Parking and drink specials at the bar.  Show at 9pm Doors at 8:30 \nTickets available at the bottom of the athenscomedy.com home page!
URL:https://athenscomedy.com/event/off-the-clock-comedy-upstairs-at-the-globe-2/2028-12-24/
LOCATION:Globe\, 199 S. Lumpkin St\, Athens\, 30601\, United States
ATTACH;FMTTYPE=image/png:https://athenscomedy.com/wp-content/uploads/2024/01/Untitled-design-copy.png
ORGANIZER;CN="Athens Comedy":MAILTO:behindthedial@gmail.com
END:VEVENT
BEGIN:VEVENT
DTSTART;TZID=UTC:20281225T210000
DTEND;TZID=UTC:20281225T230000
DTSTAMP:20260419T184201
CREATED:20240116T035044Z
LAST-MODIFIED:20240817T134825Z
UID:10006186-1861390800-1861398000@athenscomedy.com
SUMMARY:Wondermic Open Mic at Wonder Bar
DESCRIPTION:Come on out for some mic time on Mondays!   Show up and go up 9:30 pm start 9:00 list.
URL:https://athenscomedy.com/event/sake-bomb-open-mic-at-cozy-bar/2028-12-25/
LOCATION:Wonder Bar\, 240 East Washington St\, Athens\, GA\, United States
ATTACH;FMTTYPE=image/png:https://athenscomedy.com/wp-content/uploads/2024/01/OPEN-MIC-every-monday-930-start-9pm-list.png
ORGANIZER;CN="Athens Comedy":MAILTO:behindthedial@gmail.com
END:VEVENT
BEGIN:VEVENT
DTSTART;TZID=UTC:20281231T210000
DTEND;TZID=UTC:20281231T223000
DTSTAMP:20260419T184201
CREATED:20250315T041736Z
LAST-MODIFIED:20250502T074746Z
UID:10009309-1861909200-1861914600@athenscomedy.com
SUMMARY:Off the Clock Comedy Upstairs at the Globe
DESCRIPTION:Join us every Sunday night at the Globe Upstairs for Off the Clock Comedy! see Headlining and Feature Standup Comedians from across the region along with your favorite local comedians every single week. This show features some of the best comedians from all across the southeast and beyond. Every week\, see new comics and enjoy Sunday night downtown at the Globe with plenty of Free Parking and drink specials at the bar.  Show at 9pm Doors at 8:30 \nTickets available at the bottom of the athenscomedy.com home page!
URL:https://athenscomedy.com/event/off-the-clock-comedy-upstairs-at-the-globe-2/2028-12-31/
LOCATION:Globe\, 199 S. Lumpkin St\, Athens\, 30601\, United States
ATTACH;FMTTYPE=image/png:https://athenscomedy.com/wp-content/uploads/2024/01/Untitled-design-copy.png
ORGANIZER;CN="Athens Comedy":MAILTO:behindthedial@gmail.com
END:VEVENT
BEGIN:VEVENT
DTSTART;TZID=UTC:20290101T210000
DTEND;TZID=UTC:20290101T230000
DTSTAMP:20260419T184201
CREATED:20240116T035044Z
LAST-MODIFIED:20240817T134825Z
UID:10006187-1861995600-1862002800@athenscomedy.com
SUMMARY:Wondermic Open Mic at Wonder Bar
DESCRIPTION:Come on out for some mic time on Mondays!   Show up and go up 9:30 pm start 9:00 list.
URL:https://athenscomedy.com/event/sake-bomb-open-mic-at-cozy-bar/2029-01-01/
LOCATION:Wonder Bar\, 240 East Washington St\, Athens\, GA\, United States
ATTACH;FMTTYPE=image/png:https://athenscomedy.com/wp-content/uploads/2024/01/OPEN-MIC-every-monday-930-start-9pm-list.png
ORGANIZER;CN="Athens Comedy":MAILTO:behindthedial@gmail.com
END:VEVENT
BEGIN:VEVENT
DTSTART;TZID=UTC:20290107T210000
DTEND;TZID=UTC:20290107T223000
DTSTAMP:20260419T184201
CREATED:20250315T041736Z
LAST-MODIFIED:20250502T074746Z
UID:10009310-1862514000-1862519400@athenscomedy.com
SUMMARY:Off the Clock Comedy Upstairs at the Globe
DESCRIPTION:Join us every Sunday night at the Globe Upstairs for Off the Clock Comedy! see Headlining and Feature Standup Comedians from across the region along with your favorite local comedians every single week. This show features some of the best comedians from all across the southeast and beyond. Every week\, see new comics and enjoy Sunday night downtown at the Globe with plenty of Free Parking and drink specials at the bar.  Show at 9pm Doors at 8:30 \nTickets available at the bottom of the athenscomedy.com home page!
URL:https://athenscomedy.com/event/off-the-clock-comedy-upstairs-at-the-globe-2/2029-01-07/
LOCATION:Globe\, 199 S. Lumpkin St\, Athens\, 30601\, United States
ATTACH;FMTTYPE=image/png:https://athenscomedy.com/wp-content/uploads/2024/01/Untitled-design-copy.png
ORGANIZER;CN="Athens Comedy":MAILTO:behindthedial@gmail.com
END:VEVENT
BEGIN:VEVENT
DTSTART;TZID=UTC:20290108T210000
DTEND;TZID=UTC:20290108T230000
DTSTAMP:20260419T184201
CREATED:20240116T035044Z
LAST-MODIFIED:20240817T134825Z
UID:10006188-1862600400-1862607600@athenscomedy.com
SUMMARY:Wondermic Open Mic at Wonder Bar
DESCRIPTION:Come on out for some mic time on Mondays!   Show up and go up 9:30 pm start 9:00 list.
URL:https://athenscomedy.com/event/sake-bomb-open-mic-at-cozy-bar/2029-01-08/
LOCATION:Wonder Bar\, 240 East Washington St\, Athens\, GA\, United States
ATTACH;FMTTYPE=image/png:https://athenscomedy.com/wp-content/uploads/2024/01/OPEN-MIC-every-monday-930-start-9pm-list.png
ORGANIZER;CN="Athens Comedy":MAILTO:behindthedial@gmail.com
END:VEVENT
BEGIN:VEVENT
DTSTART;TZID=UTC:20290114T210000
DTEND;TZID=UTC:20290114T223000
DTSTAMP:20260419T184201
CREATED:20250315T041736Z
LAST-MODIFIED:20250502T074746Z
UID:10009311-1863118800-1863124200@athenscomedy.com
SUMMARY:Off the Clock Comedy Upstairs at the Globe
DESCRIPTION:Join us every Sunday night at the Globe Upstairs for Off the Clock Comedy! see Headlining and Feature Standup Comedians from across the region along with your favorite local comedians every single week. This show features some of the best comedians from all across the southeast and beyond. Every week\, see new comics and enjoy Sunday night downtown at the Globe with plenty of Free Parking and drink specials at the bar.  Show at 9pm Doors at 8:30 \nTickets available at the bottom of the athenscomedy.com home page!
URL:https://athenscomedy.com/event/off-the-clock-comedy-upstairs-at-the-globe-2/2029-01-14/
LOCATION:Globe\, 199 S. Lumpkin St\, Athens\, 30601\, United States
ATTACH;FMTTYPE=image/png:https://athenscomedy.com/wp-content/uploads/2024/01/Untitled-design-copy.png
ORGANIZER;CN="Athens Comedy":MAILTO:behindthedial@gmail.com
END:VEVENT
BEGIN:VEVENT
DTSTART;TZID=UTC:20290115T210000
DTEND;TZID=UTC:20290115T230000
DTSTAMP:20260419T184201
CREATED:20240116T035044Z
LAST-MODIFIED:20240817T134825Z
UID:10006189-1863205200-1863212400@athenscomedy.com
SUMMARY:Wondermic Open Mic at Wonder Bar
DESCRIPTION:Come on out for some mic time on Mondays!   Show up and go up 9:30 pm start 9:00 list.
URL:https://athenscomedy.com/event/sake-bomb-open-mic-at-cozy-bar/2029-01-15/
LOCATION:Wonder Bar\, 240 East Washington St\, Athens\, GA\, United States
ATTACH;FMTTYPE=image/png:https://athenscomedy.com/wp-content/uploads/2024/01/OPEN-MIC-every-monday-930-start-9pm-list.png
ORGANIZER;CN="Athens Comedy":MAILTO:behindthedial@gmail.com
END:VEVENT
BEGIN:VEVENT
DTSTART;TZID=UTC:20290121T210000
DTEND;TZID=UTC:20290121T223000
DTSTAMP:20260419T184201
CREATED:20250315T041736Z
LAST-MODIFIED:20250502T074746Z
UID:10009312-1863723600-1863729000@athenscomedy.com
SUMMARY:Off the Clock Comedy Upstairs at the Globe
DESCRIPTION:Join us every Sunday night at the Globe Upstairs for Off the Clock Comedy! see Headlining and Feature Standup Comedians from across the region along with your favorite local comedians every single week. This show features some of the best comedians from all across the southeast and beyond. Every week\, see new comics and enjoy Sunday night downtown at the Globe with plenty of Free Parking and drink specials at the bar.  Show at 9pm Doors at 8:30 \nTickets available at the bottom of the athenscomedy.com home page!
URL:https://athenscomedy.com/event/off-the-clock-comedy-upstairs-at-the-globe-2/2029-01-21/
LOCATION:Globe\, 199 S. Lumpkin St\, Athens\, 30601\, United States
ATTACH;FMTTYPE=image/png:https://athenscomedy.com/wp-content/uploads/2024/01/Untitled-design-copy.png
ORGANIZER;CN="Athens Comedy":MAILTO:behindthedial@gmail.com
END:VEVENT
BEGIN:VEVENT
DTSTART;TZID=UTC:20290122T210000
DTEND;TZID=UTC:20290122T230000
DTSTAMP:20260419T184201
CREATED:20240116T035044Z
LAST-MODIFIED:20240817T134825Z
UID:10006190-1863810000-1863817200@athenscomedy.com
SUMMARY:Wondermic Open Mic at Wonder Bar
DESCRIPTION:Come on out for some mic time on Mondays!   Show up and go up 9:30 pm start 9:00 list.
URL:https://athenscomedy.com/event/sake-bomb-open-mic-at-cozy-bar/2029-01-22/
LOCATION:Wonder Bar\, 240 East Washington St\, Athens\, GA\, United States
ATTACH;FMTTYPE=image/png:https://athenscomedy.com/wp-content/uploads/2024/01/OPEN-MIC-every-monday-930-start-9pm-list.png
ORGANIZER;CN="Athens Comedy":MAILTO:behindthedial@gmail.com
END:VEVENT
BEGIN:VEVENT
DTSTART;TZID=UTC:20290128T210000
DTEND;TZID=UTC:20290128T223000
DTSTAMP:20260419T184201
CREATED:20250315T041736Z
LAST-MODIFIED:20250502T074746Z
UID:10006206-1864328400-1864333800@athenscomedy.com
SUMMARY:Off the Clock Comedy Upstairs at the Globe
DESCRIPTION:Join us every Sunday night at the Globe Upstairs for Off the Clock Comedy! see Headlining and Feature Standup Comedians from across the region along with your favorite local comedians every single week. This show features some of the best comedians from all across the southeast and beyond. Every week\, see new comics and enjoy Sunday night downtown at the Globe with plenty of Free Parking and drink specials at the bar.  Show at 9pm Doors at 8:30 \nTickets available at the bottom of the athenscomedy.com home page!
URL:https://athenscomedy.com/event/off-the-clock-comedy-upstairs-at-the-globe-2/2029-01-28/
LOCATION:Globe\, 199 S. Lumpkin St\, Athens\, 30601\, United States
ATTACH;FMTTYPE=image/png:https://athenscomedy.com/wp-content/uploads/2024/01/Untitled-design-copy.png
ORGANIZER;CN="Athens Comedy":MAILTO:behindthedial@gmail.com
END:VEVENT
BEGIN:VEVENT
DTSTART;TZID=UTC:20290129T210000
DTEND;TZID=UTC:20290129T230000
DTSTAMP:20260419T184201
CREATED:20240116T035044Z
LAST-MODIFIED:20240817T134825Z
UID:10007568-1864414800-1864422000@athenscomedy.com
SUMMARY:Wondermic Open Mic at Wonder Bar
DESCRIPTION:Come on out for some mic time on Mondays!   Show up and go up 9:30 pm start 9:00 list.
URL:https://athenscomedy.com/event/sake-bomb-open-mic-at-cozy-bar/2029-01-29/
LOCATION:Wonder Bar\, 240 East Washington St\, Athens\, GA\, United States
ATTACH;FMTTYPE=image/png:https://athenscomedy.com/wp-content/uploads/2024/01/OPEN-MIC-every-monday-930-start-9pm-list.png
ORGANIZER;CN="Athens Comedy":MAILTO:behindthedial@gmail.com
END:VEVENT
BEGIN:VEVENT
DTSTART;TZID=UTC:20290204T210000
DTEND;TZID=UTC:20290204T223000
DTSTAMP:20260419T184201
CREATED:20250315T041736Z
LAST-MODIFIED:20250502T074746Z
UID:10009313-1864933200-1864938600@athenscomedy.com
SUMMARY:Off the Clock Comedy Upstairs at the Globe
DESCRIPTION:Join us every Sunday night at the Globe Upstairs for Off the Clock Comedy! see Headlining and Feature Standup Comedians from across the region along with your favorite local comedians every single week. This show features some of the best comedians from all across the southeast and beyond. Every week\, see new comics and enjoy Sunday night downtown at the Globe with plenty of Free Parking and drink specials at the bar.  Show at 9pm Doors at 8:30 \nTickets available at the bottom of the athenscomedy.com home page!
URL:https://athenscomedy.com/event/off-the-clock-comedy-upstairs-at-the-globe-2/2029-02-04/
LOCATION:Globe\, 199 S. Lumpkin St\, Athens\, 30601\, United States
ATTACH;FMTTYPE=image/png:https://athenscomedy.com/wp-content/uploads/2024/01/Untitled-design-copy.png
ORGANIZER;CN="Athens Comedy":MAILTO:behindthedial@gmail.com
END:VEVENT
BEGIN:VEVENT
DTSTART;TZID=UTC:20290205T210000
DTEND;TZID=UTC:20290205T230000
DTSTAMP:20260419T184201
CREATED:20240116T035044Z
LAST-MODIFIED:20240817T134825Z
UID:10007569-1865019600-1865026800@athenscomedy.com
SUMMARY:Wondermic Open Mic at Wonder Bar
DESCRIPTION:Come on out for some mic time on Mondays!   Show up and go up 9:30 pm start 9:00 list.
URL:https://athenscomedy.com/event/sake-bomb-open-mic-at-cozy-bar/2029-02-05/
LOCATION:Wonder Bar\, 240 East Washington St\, Athens\, GA\, United States
ATTACH;FMTTYPE=image/png:https://athenscomedy.com/wp-content/uploads/2024/01/OPEN-MIC-every-monday-930-start-9pm-list.png
ORGANIZER;CN="Athens Comedy":MAILTO:behindthedial@gmail.com
END:VEVENT
BEGIN:VEVENT
DTSTART;TZID=UTC:20290211T210000
DTEND;TZID=UTC:20290211T223000
DTSTAMP:20260419T184201
CREATED:20250315T041736Z
LAST-MODIFIED:20250502T074746Z
UID:10009314-1865538000-1865543400@athenscomedy.com
SUMMARY:Off the Clock Comedy Upstairs at the Globe
DESCRIPTION:Join us every Sunday night at the Globe Upstairs for Off the Clock Comedy! see Headlining and Feature Standup Comedians from across the region along with your favorite local comedians every single week. This show features some of the best comedians from all across the southeast and beyond. Every week\, see new comics and enjoy Sunday night downtown at the Globe with plenty of Free Parking and drink specials at the bar.  Show at 9pm Doors at 8:30 \nTickets available at the bottom of the athenscomedy.com home page!
URL:https://athenscomedy.com/event/off-the-clock-comedy-upstairs-at-the-globe-2/2029-02-11/
LOCATION:Globe\, 199 S. Lumpkin St\, Athens\, 30601\, United States
ATTACH;FMTTYPE=image/png:https://athenscomedy.com/wp-content/uploads/2024/01/Untitled-design-copy.png
ORGANIZER;CN="Athens Comedy":MAILTO:behindthedial@gmail.com
END:VEVENT
BEGIN:VEVENT
DTSTART;TZID=UTC:20290212T210000
DTEND;TZID=UTC:20290212T230000
DTSTAMP:20260419T184201
CREATED:20240116T035044Z
LAST-MODIFIED:20240817T134825Z
UID:10007570-1865624400-1865631600@athenscomedy.com
SUMMARY:Wondermic Open Mic at Wonder Bar
DESCRIPTION:Come on out for some mic time on Mondays!   Show up and go up 9:30 pm start 9:00 list.
URL:https://athenscomedy.com/event/sake-bomb-open-mic-at-cozy-bar/2029-02-12/
LOCATION:Wonder Bar\, 240 East Washington St\, Athens\, GA\, United States
ATTACH;FMTTYPE=image/png:https://athenscomedy.com/wp-content/uploads/2024/01/OPEN-MIC-every-monday-930-start-9pm-list.png
ORGANIZER;CN="Athens Comedy":MAILTO:behindthedial@gmail.com
END:VEVENT
BEGIN:VEVENT
DTSTART;TZID=UTC:20290218T210000
DTEND;TZID=UTC:20290218T223000
DTSTAMP:20260419T184201
CREATED:20250315T041736Z
LAST-MODIFIED:20250502T074746Z
UID:10009315-1866142800-1866148200@athenscomedy.com
SUMMARY:Off the Clock Comedy Upstairs at the Globe
DESCRIPTION:Join us every Sunday night at the Globe Upstairs for Off the Clock Comedy! see Headlining and Feature Standup Comedians from across the region along with your favorite local comedians every single week. This show features some of the best comedians from all across the southeast and beyond. Every week\, see new comics and enjoy Sunday night downtown at the Globe with plenty of Free Parking and drink specials at the bar.  Show at 9pm Doors at 8:30 \nTickets available at the bottom of the athenscomedy.com home page!
URL:https://athenscomedy.com/event/off-the-clock-comedy-upstairs-at-the-globe-2/2029-02-18/
LOCATION:Globe\, 199 S. Lumpkin St\, Athens\, 30601\, United States
ATTACH;FMTTYPE=image/png:https://athenscomedy.com/wp-content/uploads/2024/01/Untitled-design-copy.png
ORGANIZER;CN="Athens Comedy":MAILTO:behindthedial@gmail.com
END:VEVENT
BEGIN:VEVENT
DTSTART;TZID=UTC:20290219T210000
DTEND;TZID=UTC:20290219T230000
DTSTAMP:20260419T184201
CREATED:20240116T035044Z
LAST-MODIFIED:20240817T134825Z
UID:10007571-1866229200-1866236400@athenscomedy.com
SUMMARY:Wondermic Open Mic at Wonder Bar
DESCRIPTION:Come on out for some mic time on Mondays!   Show up and go up 9:30 pm start 9:00 list.
URL:https://athenscomedy.com/event/sake-bomb-open-mic-at-cozy-bar/2029-02-19/
LOCATION:Wonder Bar\, 240 East Washington St\, Athens\, GA\, United States
ATTACH;FMTTYPE=image/png:https://athenscomedy.com/wp-content/uploads/2024/01/OPEN-MIC-every-monday-930-start-9pm-list.png
ORGANIZER;CN="Athens Comedy":MAILTO:behindthedial@gmail.com
END:VEVENT
BEGIN:VEVENT
DTSTART;TZID=UTC:20290225T210000
DTEND;TZID=UTC:20290225T223000
DTSTAMP:20260419T184201
CREATED:20250315T041736Z
LAST-MODIFIED:20250502T074746Z
UID:10006210-1866747600-1866753000@athenscomedy.com
SUMMARY:Off the Clock Comedy Upstairs at the Globe
DESCRIPTION:Join us every Sunday night at the Globe Upstairs for Off the Clock Comedy! see Headlining and Feature Standup Comedians from across the region along with your favorite local comedians every single week. This show features some of the best comedians from all across the southeast and beyond. Every week\, see new comics and enjoy Sunday night downtown at the Globe with plenty of Free Parking and drink specials at the bar.  Show at 9pm Doors at 8:30 \nTickets available at the bottom of the athenscomedy.com home page!
URL:https://athenscomedy.com/event/off-the-clock-comedy-upstairs-at-the-globe-2/2029-02-25/
LOCATION:Globe\, 199 S. Lumpkin St\, Athens\, 30601\, United States
ATTACH;FMTTYPE=image/png:https://athenscomedy.com/wp-content/uploads/2024/01/Untitled-design-copy.png
ORGANIZER;CN="Athens Comedy":MAILTO:behindthedial@gmail.com
END:VEVENT
BEGIN:VEVENT
DTSTART;TZID=UTC:20290226T210000
DTEND;TZID=UTC:20290226T230000
DTSTAMP:20260419T184201
CREATED:20240116T035044Z
LAST-MODIFIED:20240817T134825Z
UID:10007572-1866834000-1866841200@athenscomedy.com
SUMMARY:Wondermic Open Mic at Wonder Bar
DESCRIPTION:Come on out for some mic time on Mondays!   Show up and go up 9:30 pm start 9:00 list.
URL:https://athenscomedy.com/event/sake-bomb-open-mic-at-cozy-bar/2029-02-26/
LOCATION:Wonder Bar\, 240 East Washington St\, Athens\, GA\, United States
ATTACH;FMTTYPE=image/png:https://athenscomedy.com/wp-content/uploads/2024/01/OPEN-MIC-every-monday-930-start-9pm-list.png
ORGANIZER;CN="Athens Comedy":MAILTO:behindthedial@gmail.com
END:VEVENT
BEGIN:VEVENT
DTSTART;TZID=UTC:20290304T210000
DTEND;TZID=UTC:20290304T223000
DTSTAMP:20260419T184201
CREATED:20250315T041736Z
LAST-MODIFIED:20250502T074746Z
UID:10009316-1867352400-1867357800@athenscomedy.com
SUMMARY:Off the Clock Comedy Upstairs at the Globe
DESCRIPTION:Join us every Sunday night at the Globe Upstairs for Off the Clock Comedy! see Headlining and Feature Standup Comedians from across the region along with your favorite local comedians every single week. This show features some of the best comedians from all across the southeast and beyond. Every week\, see new comics and enjoy Sunday night downtown at the Globe with plenty of Free Parking and drink specials at the bar.  Show at 9pm Doors at 8:30 \nTickets available at the bottom of the athenscomedy.com home page!
URL:https://athenscomedy.com/event/off-the-clock-comedy-upstairs-at-the-globe-2/2029-03-04/
LOCATION:Globe\, 199 S. Lumpkin St\, Athens\, 30601\, United States
ATTACH;FMTTYPE=image/png:https://athenscomedy.com/wp-content/uploads/2024/01/Untitled-design-copy.png
ORGANIZER;CN="Athens Comedy":MAILTO:behindthedial@gmail.com
END:VEVENT
BEGIN:VEVENT
DTSTART;TZID=UTC:20290305T210000
DTEND;TZID=UTC:20290305T230000
DTSTAMP:20260419T184201
CREATED:20240116T035044Z
LAST-MODIFIED:20240817T134825Z
UID:10007573-1867438800-1867446000@athenscomedy.com
SUMMARY:Wondermic Open Mic at Wonder Bar
DESCRIPTION:Come on out for some mic time on Mondays!   Show up and go up 9:30 pm start 9:00 list.
URL:https://athenscomedy.com/event/sake-bomb-open-mic-at-cozy-bar/2029-03-05/
LOCATION:Wonder Bar\, 240 East Washington St\, Athens\, GA\, United States
ATTACH;FMTTYPE=image/png:https://athenscomedy.com/wp-content/uploads/2024/01/OPEN-MIC-every-monday-930-start-9pm-list.png
ORGANIZER;CN="Athens Comedy":MAILTO:behindthedial@gmail.com
END:VEVENT
BEGIN:VEVENT
DTSTART;TZID=UTC:20290311T210000
DTEND;TZID=UTC:20290311T223000
DTSTAMP:20260419T184201
CREATED:20250315T041736Z
LAST-MODIFIED:20250502T074746Z
UID:10009317-1867957200-1867962600@athenscomedy.com
SUMMARY:Off the Clock Comedy Upstairs at the Globe
DESCRIPTION:Join us every Sunday night at the Globe Upstairs for Off the Clock Comedy! see Headlining and Feature Standup Comedians from across the region along with your favorite local comedians every single week. This show features some of the best comedians from all across the southeast and beyond. Every week\, see new comics and enjoy Sunday night downtown at the Globe with plenty of Free Parking and drink specials at the bar.  Show at 9pm Doors at 8:30 \nTickets available at the bottom of the athenscomedy.com home page!
URL:https://athenscomedy.com/event/off-the-clock-comedy-upstairs-at-the-globe-2/2029-03-11/
LOCATION:Globe\, 199 S. Lumpkin St\, Athens\, 30601\, United States
ATTACH;FMTTYPE=image/png:https://athenscomedy.com/wp-content/uploads/2024/01/Untitled-design-copy.png
ORGANIZER;CN="Athens Comedy":MAILTO:behindthedial@gmail.com
END:VEVENT
BEGIN:VEVENT
DTSTART;TZID=UTC:20290312T210000
DTEND;TZID=UTC:20290312T230000
DTSTAMP:20260419T184201
CREATED:20240116T035044Z
LAST-MODIFIED:20240817T134825Z
UID:10007574-1868043600-1868050800@athenscomedy.com
SUMMARY:Wondermic Open Mic at Wonder Bar
DESCRIPTION:Come on out for some mic time on Mondays!   Show up and go up 9:30 pm start 9:00 list.
URL:https://athenscomedy.com/event/sake-bomb-open-mic-at-cozy-bar/2029-03-12/
LOCATION:Wonder Bar\, 240 East Washington St\, Athens\, GA\, United States
ATTACH;FMTTYPE=image/png:https://athenscomedy.com/wp-content/uploads/2024/01/OPEN-MIC-every-monday-930-start-9pm-list.png
ORGANIZER;CN="Athens Comedy":MAILTO:behindthedial@gmail.com
END:VEVENT
BEGIN:VEVENT
DTSTART;TZID=UTC:20290318T210000
DTEND;TZID=UTC:20290318T223000
DTSTAMP:20260419T184201
CREATED:20250315T041736Z
LAST-MODIFIED:20250502T074746Z
UID:10009318-1868562000-1868567400@athenscomedy.com
SUMMARY:Off the Clock Comedy Upstairs at the Globe
DESCRIPTION:Join us every Sunday night at the Globe Upstairs for Off the Clock Comedy! see Headlining and Feature Standup Comedians from across the region along with your favorite local comedians every single week. This show features some of the best comedians from all across the southeast and beyond. Every week\, see new comics and enjoy Sunday night downtown at the Globe with plenty of Free Parking and drink specials at the bar.  Show at 9pm Doors at 8:30 \nTickets available at the bottom of the athenscomedy.com home page!
URL:https://athenscomedy.com/event/off-the-clock-comedy-upstairs-at-the-globe-2/2029-03-18/
LOCATION:Globe\, 199 S. Lumpkin St\, Athens\, 30601\, United States
ATTACH;FMTTYPE=image/png:https://athenscomedy.com/wp-content/uploads/2024/01/Untitled-design-copy.png
ORGANIZER;CN="Athens Comedy":MAILTO:behindthedial@gmail.com
END:VEVENT
BEGIN:VEVENT
DTSTART;TZID=UTC:20290319T210000
DTEND;TZID=UTC:20290319T230000
DTSTAMP:20260419T184201
CREATED:20240116T035044Z
LAST-MODIFIED:20240817T134825Z
UID:10007575-1868648400-1868655600@athenscomedy.com
SUMMARY:Wondermic Open Mic at Wonder Bar
DESCRIPTION:Come on out for some mic time on Mondays!   Show up and go up 9:30 pm start 9:00 list.
URL:https://athenscomedy.com/event/sake-bomb-open-mic-at-cozy-bar/2029-03-19/
LOCATION:Wonder Bar\, 240 East Washington St\, Athens\, GA\, United States
ATTACH;FMTTYPE=image/png:https://athenscomedy.com/wp-content/uploads/2024/01/OPEN-MIC-every-monday-930-start-9pm-list.png
ORGANIZER;CN="Athens Comedy":MAILTO:behindthedial@gmail.com
END:VEVENT
END:VCALENDAR