BEGIN:VCALENDAR
VERSION:2.0
PRODID:-// - ECPv6.15.20//NONSGML v1.0//EN
CALSCALE:GREGORIAN
METHOD:PUBLISH
X-ORIGINAL-URL:https://athenscomedy.com
X-WR-CALDESC:Events for 
REFRESH-INTERVAL;VALUE=DURATION:PT1H
X-Robots-Tag:noindex
X-PUBLISHED-TTL:PT1H
BEGIN:VTIMEZONE
TZID:UTC
BEGIN:STANDARD
TZOFFSETFROM:+0000
TZOFFSETTO:+0000
TZNAME:UTC
DTSTART:20280101T000000
END:STANDARD
END:VTIMEZONE
BEGIN:VEVENT
DTSTART;TZID=UTC:20290304T210000
DTEND;TZID=UTC:20290304T223000
DTSTAMP:20260419T220256
CREATED:20250315T041736Z
LAST-MODIFIED:20250502T074746Z
UID:10009316-1867352400-1867357800@athenscomedy.com
SUMMARY:Off the Clock Comedy Upstairs at the Globe
DESCRIPTION:Join us every Sunday night at the Globe Upstairs for Off the Clock Comedy! see Headlining and Feature Standup Comedians from across the region along with your favorite local comedians every single week. This show features some of the best comedians from all across the southeast and beyond. Every week\, see new comics and enjoy Sunday night downtown at the Globe with plenty of Free Parking and drink specials at the bar.  Show at 9pm Doors at 8:30 \nTickets available at the bottom of the athenscomedy.com home page!
URL:https://athenscomedy.com/event/off-the-clock-comedy-upstairs-at-the-globe-2/2029-03-04/
LOCATION:Globe\, 199 S. Lumpkin St\, Athens\, 30601\, United States
ATTACH;FMTTYPE=image/png:https://athenscomedy.com/wp-content/uploads/2024/01/Untitled-design-copy.png
ORGANIZER;CN="Athens Comedy":MAILTO:behindthedial@gmail.com
END:VEVENT
BEGIN:VEVENT
DTSTART;TZID=UTC:20290305T210000
DTEND;TZID=UTC:20290305T230000
DTSTAMP:20260419T220256
CREATED:20240116T035044Z
LAST-MODIFIED:20240817T134825Z
UID:10007573-1867438800-1867446000@athenscomedy.com
SUMMARY:Wondermic Open Mic at Wonder Bar
DESCRIPTION:Come on out for some mic time on Mondays!   Show up and go up 9:30 pm start 9:00 list.
URL:https://athenscomedy.com/event/sake-bomb-open-mic-at-cozy-bar/2029-03-05/
LOCATION:Wonder Bar\, 240 East Washington St\, Athens\, GA\, United States
ATTACH;FMTTYPE=image/png:https://athenscomedy.com/wp-content/uploads/2024/01/OPEN-MIC-every-monday-930-start-9pm-list.png
ORGANIZER;CN="Athens Comedy":MAILTO:behindthedial@gmail.com
END:VEVENT
BEGIN:VEVENT
DTSTART;TZID=UTC:20290311T210000
DTEND;TZID=UTC:20290311T223000
DTSTAMP:20260419T220256
CREATED:20250315T041736Z
LAST-MODIFIED:20250502T074746Z
UID:10009317-1867957200-1867962600@athenscomedy.com
SUMMARY:Off the Clock Comedy Upstairs at the Globe
DESCRIPTION:Join us every Sunday night at the Globe Upstairs for Off the Clock Comedy! see Headlining and Feature Standup Comedians from across the region along with your favorite local comedians every single week. This show features some of the best comedians from all across the southeast and beyond. Every week\, see new comics and enjoy Sunday night downtown at the Globe with plenty of Free Parking and drink specials at the bar.  Show at 9pm Doors at 8:30 \nTickets available at the bottom of the athenscomedy.com home page!
URL:https://athenscomedy.com/event/off-the-clock-comedy-upstairs-at-the-globe-2/2029-03-11/
LOCATION:Globe\, 199 S. Lumpkin St\, Athens\, 30601\, United States
ATTACH;FMTTYPE=image/png:https://athenscomedy.com/wp-content/uploads/2024/01/Untitled-design-copy.png
ORGANIZER;CN="Athens Comedy":MAILTO:behindthedial@gmail.com
END:VEVENT
BEGIN:VEVENT
DTSTART;TZID=UTC:20290312T210000
DTEND;TZID=UTC:20290312T230000
DTSTAMP:20260419T220256
CREATED:20240116T035044Z
LAST-MODIFIED:20240817T134825Z
UID:10007574-1868043600-1868050800@athenscomedy.com
SUMMARY:Wondermic Open Mic at Wonder Bar
DESCRIPTION:Come on out for some mic time on Mondays!   Show up and go up 9:30 pm start 9:00 list.
URL:https://athenscomedy.com/event/sake-bomb-open-mic-at-cozy-bar/2029-03-12/
LOCATION:Wonder Bar\, 240 East Washington St\, Athens\, GA\, United States
ATTACH;FMTTYPE=image/png:https://athenscomedy.com/wp-content/uploads/2024/01/OPEN-MIC-every-monday-930-start-9pm-list.png
ORGANIZER;CN="Athens Comedy":MAILTO:behindthedial@gmail.com
END:VEVENT
BEGIN:VEVENT
DTSTART;TZID=UTC:20290318T210000
DTEND;TZID=UTC:20290318T223000
DTSTAMP:20260419T220256
CREATED:20250315T041736Z
LAST-MODIFIED:20250502T074746Z
UID:10009318-1868562000-1868567400@athenscomedy.com
SUMMARY:Off the Clock Comedy Upstairs at the Globe
DESCRIPTION:Join us every Sunday night at the Globe Upstairs for Off the Clock Comedy! see Headlining and Feature Standup Comedians from across the region along with your favorite local comedians every single week. This show features some of the best comedians from all across the southeast and beyond. Every week\, see new comics and enjoy Sunday night downtown at the Globe with plenty of Free Parking and drink specials at the bar.  Show at 9pm Doors at 8:30 \nTickets available at the bottom of the athenscomedy.com home page!
URL:https://athenscomedy.com/event/off-the-clock-comedy-upstairs-at-the-globe-2/2029-03-18/
LOCATION:Globe\, 199 S. Lumpkin St\, Athens\, 30601\, United States
ATTACH;FMTTYPE=image/png:https://athenscomedy.com/wp-content/uploads/2024/01/Untitled-design-copy.png
ORGANIZER;CN="Athens Comedy":MAILTO:behindthedial@gmail.com
END:VEVENT
BEGIN:VEVENT
DTSTART;TZID=UTC:20290319T210000
DTEND;TZID=UTC:20290319T230000
DTSTAMP:20260419T220256
CREATED:20240116T035044Z
LAST-MODIFIED:20240817T134825Z
UID:10007575-1868648400-1868655600@athenscomedy.com
SUMMARY:Wondermic Open Mic at Wonder Bar
DESCRIPTION:Come on out for some mic time on Mondays!   Show up and go up 9:30 pm start 9:00 list.
URL:https://athenscomedy.com/event/sake-bomb-open-mic-at-cozy-bar/2029-03-19/
LOCATION:Wonder Bar\, 240 East Washington St\, Athens\, GA\, United States
ATTACH;FMTTYPE=image/png:https://athenscomedy.com/wp-content/uploads/2024/01/OPEN-MIC-every-monday-930-start-9pm-list.png
ORGANIZER;CN="Athens Comedy":MAILTO:behindthedial@gmail.com
END:VEVENT
BEGIN:VEVENT
DTSTART;TZID=UTC:20290325T210000
DTEND;TZID=UTC:20290325T223000
DTSTAMP:20260419T220256
CREATED:20250315T041736Z
LAST-MODIFIED:20250502T074746Z
UID:10007598-1869166800-1869172200@athenscomedy.com
SUMMARY:Off the Clock Comedy Upstairs at the Globe
DESCRIPTION:Join us every Sunday night at the Globe Upstairs for Off the Clock Comedy! see Headlining and Feature Standup Comedians from across the region along with your favorite local comedians every single week. This show features some of the best comedians from all across the southeast and beyond. Every week\, see new comics and enjoy Sunday night downtown at the Globe with plenty of Free Parking and drink specials at the bar.  Show at 9pm Doors at 8:30 \nTickets available at the bottom of the athenscomedy.com home page!
URL:https://athenscomedy.com/event/off-the-clock-comedy-upstairs-at-the-globe-2/2029-03-25/
LOCATION:Globe\, 199 S. Lumpkin St\, Athens\, 30601\, United States
ATTACH;FMTTYPE=image/png:https://athenscomedy.com/wp-content/uploads/2024/01/Untitled-design-copy.png
ORGANIZER;CN="Athens Comedy":MAILTO:behindthedial@gmail.com
END:VEVENT
BEGIN:VEVENT
DTSTART;TZID=UTC:20290326T210000
DTEND;TZID=UTC:20290326T230000
DTSTAMP:20260419T220256
CREATED:20240116T035044Z
LAST-MODIFIED:20240817T134825Z
UID:10007576-1869253200-1869260400@athenscomedy.com
SUMMARY:Wondermic Open Mic at Wonder Bar
DESCRIPTION:Come on out for some mic time on Mondays!   Show up and go up 9:30 pm start 9:00 list.
URL:https://athenscomedy.com/event/sake-bomb-open-mic-at-cozy-bar/2029-03-26/
LOCATION:Wonder Bar\, 240 East Washington St\, Athens\, GA\, United States
ATTACH;FMTTYPE=image/png:https://athenscomedy.com/wp-content/uploads/2024/01/OPEN-MIC-every-monday-930-start-9pm-list.png
ORGANIZER;CN="Athens Comedy":MAILTO:behindthedial@gmail.com
END:VEVENT
BEGIN:VEVENT
DTSTART;TZID=UTC:20290401T210000
DTEND;TZID=UTC:20290401T223000
DTSTAMP:20260419T220256
CREATED:20250315T041736Z
LAST-MODIFIED:20250502T074746Z
UID:10009319-1869771600-1869777000@athenscomedy.com
SUMMARY:Off the Clock Comedy Upstairs at the Globe
DESCRIPTION:Join us every Sunday night at the Globe Upstairs for Off the Clock Comedy! see Headlining and Feature Standup Comedians from across the region along with your favorite local comedians every single week. This show features some of the best comedians from all across the southeast and beyond. Every week\, see new comics and enjoy Sunday night downtown at the Globe with plenty of Free Parking and drink specials at the bar.  Show at 9pm Doors at 8:30 \nTickets available at the bottom of the athenscomedy.com home page!
URL:https://athenscomedy.com/event/off-the-clock-comedy-upstairs-at-the-globe-2/2029-04-01/
LOCATION:Globe\, 199 S. Lumpkin St\, Athens\, 30601\, United States
ATTACH;FMTTYPE=image/png:https://athenscomedy.com/wp-content/uploads/2024/01/Untitled-design-copy.png
ORGANIZER;CN="Athens Comedy":MAILTO:behindthedial@gmail.com
END:VEVENT
BEGIN:VEVENT
DTSTART;TZID=UTC:20290402T210000
DTEND;TZID=UTC:20290402T230000
DTSTAMP:20260419T220256
CREATED:20240116T035044Z
LAST-MODIFIED:20240817T134825Z
UID:10007577-1869858000-1869865200@athenscomedy.com
SUMMARY:Wondermic Open Mic at Wonder Bar
DESCRIPTION:Come on out for some mic time on Mondays!   Show up and go up 9:30 pm start 9:00 list.
URL:https://athenscomedy.com/event/sake-bomb-open-mic-at-cozy-bar/2029-04-02/
LOCATION:Wonder Bar\, 240 East Washington St\, Athens\, GA\, United States
ATTACH;FMTTYPE=image/png:https://athenscomedy.com/wp-content/uploads/2024/01/OPEN-MIC-every-monday-930-start-9pm-list.png
ORGANIZER;CN="Athens Comedy":MAILTO:behindthedial@gmail.com
END:VEVENT
BEGIN:VEVENT
DTSTART;TZID=UTC:20290408T210000
DTEND;TZID=UTC:20290408T223000
DTSTAMP:20260419T220256
CREATED:20250315T041736Z
LAST-MODIFIED:20250502T074746Z
UID:10009320-1870376400-1870381800@athenscomedy.com
SUMMARY:Off the Clock Comedy Upstairs at the Globe
DESCRIPTION:Join us every Sunday night at the Globe Upstairs for Off the Clock Comedy! see Headlining and Feature Standup Comedians from across the region along with your favorite local comedians every single week. This show features some of the best comedians from all across the southeast and beyond. Every week\, see new comics and enjoy Sunday night downtown at the Globe with plenty of Free Parking and drink specials at the bar.  Show at 9pm Doors at 8:30 \nTickets available at the bottom of the athenscomedy.com home page!
URL:https://athenscomedy.com/event/off-the-clock-comedy-upstairs-at-the-globe-2/2029-04-08/
LOCATION:Globe\, 199 S. Lumpkin St\, Athens\, 30601\, United States
ATTACH;FMTTYPE=image/png:https://athenscomedy.com/wp-content/uploads/2024/01/Untitled-design-copy.png
ORGANIZER;CN="Athens Comedy":MAILTO:behindthedial@gmail.com
END:VEVENT
BEGIN:VEVENT
DTSTART;TZID=UTC:20290409T210000
DTEND;TZID=UTC:20290409T230000
DTSTAMP:20260419T220257
CREATED:20240116T035044Z
LAST-MODIFIED:20240817T134825Z
UID:10007578-1870462800-1870470000@athenscomedy.com
SUMMARY:Wondermic Open Mic at Wonder Bar
DESCRIPTION:Come on out for some mic time on Mondays!   Show up and go up 9:30 pm start 9:00 list.
URL:https://athenscomedy.com/event/sake-bomb-open-mic-at-cozy-bar/2029-04-09/
LOCATION:Wonder Bar\, 240 East Washington St\, Athens\, GA\, United States
ATTACH;FMTTYPE=image/png:https://athenscomedy.com/wp-content/uploads/2024/01/OPEN-MIC-every-monday-930-start-9pm-list.png
ORGANIZER;CN="Athens Comedy":MAILTO:behindthedial@gmail.com
END:VEVENT
BEGIN:VEVENT
DTSTART;TZID=UTC:20290415T210000
DTEND;TZID=UTC:20290415T223000
DTSTAMP:20260419T220257
CREATED:20250315T041736Z
LAST-MODIFIED:20250502T074746Z
UID:10009321-1870981200-1870986600@athenscomedy.com
SUMMARY:Off the Clock Comedy Upstairs at the Globe
DESCRIPTION:Join us every Sunday night at the Globe Upstairs for Off the Clock Comedy! see Headlining and Feature Standup Comedians from across the region along with your favorite local comedians every single week. This show features some of the best comedians from all across the southeast and beyond. Every week\, see new comics and enjoy Sunday night downtown at the Globe with plenty of Free Parking and drink specials at the bar.  Show at 9pm Doors at 8:30 \nTickets available at the bottom of the athenscomedy.com home page!
URL:https://athenscomedy.com/event/off-the-clock-comedy-upstairs-at-the-globe-2/2029-04-15/
LOCATION:Globe\, 199 S. Lumpkin St\, Athens\, 30601\, United States
ATTACH;FMTTYPE=image/png:https://athenscomedy.com/wp-content/uploads/2024/01/Untitled-design-copy.png
ORGANIZER;CN="Athens Comedy":MAILTO:behindthedial@gmail.com
END:VEVENT
BEGIN:VEVENT
DTSTART;TZID=UTC:20290416T210000
DTEND;TZID=UTC:20290416T230000
DTSTAMP:20260419T220257
CREATED:20240116T035044Z
LAST-MODIFIED:20240817T134825Z
UID:10007579-1871067600-1871074800@athenscomedy.com
SUMMARY:Wondermic Open Mic at Wonder Bar
DESCRIPTION:Come on out for some mic time on Mondays!   Show up and go up 9:30 pm start 9:00 list.
URL:https://athenscomedy.com/event/sake-bomb-open-mic-at-cozy-bar/2029-04-16/
LOCATION:Wonder Bar\, 240 East Washington St\, Athens\, GA\, United States
ATTACH;FMTTYPE=image/png:https://athenscomedy.com/wp-content/uploads/2024/01/OPEN-MIC-every-monday-930-start-9pm-list.png
ORGANIZER;CN="Athens Comedy":MAILTO:behindthedial@gmail.com
END:VEVENT
BEGIN:VEVENT
DTSTART;TZID=UTC:20290422T210000
DTEND;TZID=UTC:20290422T223000
DTSTAMP:20260419T220257
CREATED:20250315T041736Z
LAST-MODIFIED:20250502T074746Z
UID:10007602-1871586000-1871591400@athenscomedy.com
SUMMARY:Off the Clock Comedy Upstairs at the Globe
DESCRIPTION:Join us every Sunday night at the Globe Upstairs for Off the Clock Comedy! see Headlining and Feature Standup Comedians from across the region along with your favorite local comedians every single week. This show features some of the best comedians from all across the southeast and beyond. Every week\, see new comics and enjoy Sunday night downtown at the Globe with plenty of Free Parking and drink specials at the bar.  Show at 9pm Doors at 8:30 \nTickets available at the bottom of the athenscomedy.com home page!
URL:https://athenscomedy.com/event/off-the-clock-comedy-upstairs-at-the-globe-2/2029-04-22/
LOCATION:Globe\, 199 S. Lumpkin St\, Athens\, 30601\, United States
ATTACH;FMTTYPE=image/png:https://athenscomedy.com/wp-content/uploads/2024/01/Untitled-design-copy.png
ORGANIZER;CN="Athens Comedy":MAILTO:behindthedial@gmail.com
END:VEVENT
BEGIN:VEVENT
DTSTART;TZID=UTC:20290423T210000
DTEND;TZID=UTC:20290423T230000
DTSTAMP:20260419T220257
CREATED:20240116T035044Z
LAST-MODIFIED:20240817T134825Z
UID:10007580-1871672400-1871679600@athenscomedy.com
SUMMARY:Wondermic Open Mic at Wonder Bar
DESCRIPTION:Come on out for some mic time on Mondays!   Show up and go up 9:30 pm start 9:00 list.
URL:https://athenscomedy.com/event/sake-bomb-open-mic-at-cozy-bar/2029-04-23/
LOCATION:Wonder Bar\, 240 East Washington St\, Athens\, GA\, United States
ATTACH;FMTTYPE=image/png:https://athenscomedy.com/wp-content/uploads/2024/01/OPEN-MIC-every-monday-930-start-9pm-list.png
ORGANIZER;CN="Athens Comedy":MAILTO:behindthedial@gmail.com
END:VEVENT
BEGIN:VEVENT
DTSTART;TZID=UTC:20290429T210000
DTEND;TZID=UTC:20290429T223000
DTSTAMP:20260419T220257
CREATED:20250315T041736Z
LAST-MODIFIED:20250502T074746Z
UID:10009322-1872190800-1872196200@athenscomedy.com
SUMMARY:Off the Clock Comedy Upstairs at the Globe
DESCRIPTION:Join us every Sunday night at the Globe Upstairs for Off the Clock Comedy! see Headlining and Feature Standup Comedians from across the region along with your favorite local comedians every single week. This show features some of the best comedians from all across the southeast and beyond. Every week\, see new comics and enjoy Sunday night downtown at the Globe with plenty of Free Parking and drink specials at the bar.  Show at 9pm Doors at 8:30 \nTickets available at the bottom of the athenscomedy.com home page!
URL:https://athenscomedy.com/event/off-the-clock-comedy-upstairs-at-the-globe-2/2029-04-29/
LOCATION:Globe\, 199 S. Lumpkin St\, Athens\, 30601\, United States
ATTACH;FMTTYPE=image/png:https://athenscomedy.com/wp-content/uploads/2024/01/Untitled-design-copy.png
ORGANIZER;CN="Athens Comedy":MAILTO:behindthedial@gmail.com
END:VEVENT
BEGIN:VEVENT
DTSTART;TZID=UTC:20290430T210000
DTEND;TZID=UTC:20290430T230000
DTSTAMP:20260419T220257
CREATED:20240116T035044Z
LAST-MODIFIED:20240817T134825Z
UID:10007581-1872277200-1872284400@athenscomedy.com
SUMMARY:Wondermic Open Mic at Wonder Bar
DESCRIPTION:Come on out for some mic time on Mondays!   Show up and go up 9:30 pm start 9:00 list.
URL:https://athenscomedy.com/event/sake-bomb-open-mic-at-cozy-bar/2029-04-30/
LOCATION:Wonder Bar\, 240 East Washington St\, Athens\, GA\, United States
ATTACH;FMTTYPE=image/png:https://athenscomedy.com/wp-content/uploads/2024/01/OPEN-MIC-every-monday-930-start-9pm-list.png
ORGANIZER;CN="Athens Comedy":MAILTO:behindthedial@gmail.com
END:VEVENT
BEGIN:VEVENT
DTSTART;TZID=UTC:20290506T210000
DTEND;TZID=UTC:20290506T223000
DTSTAMP:20260419T220257
CREATED:20250315T041736Z
LAST-MODIFIED:20250502T074746Z
UID:10009323-1872795600-1872801000@athenscomedy.com
SUMMARY:Off the Clock Comedy Upstairs at the Globe
DESCRIPTION:Join us every Sunday night at the Globe Upstairs for Off the Clock Comedy! see Headlining and Feature Standup Comedians from across the region along with your favorite local comedians every single week. This show features some of the best comedians from all across the southeast and beyond. Every week\, see new comics and enjoy Sunday night downtown at the Globe with plenty of Free Parking and drink specials at the bar.  Show at 9pm Doors at 8:30 \nTickets available at the bottom of the athenscomedy.com home page!
URL:https://athenscomedy.com/event/off-the-clock-comedy-upstairs-at-the-globe-2/2029-05-06/
LOCATION:Globe\, 199 S. Lumpkin St\, Athens\, 30601\, United States
ATTACH;FMTTYPE=image/png:https://athenscomedy.com/wp-content/uploads/2024/01/Untitled-design-copy.png
ORGANIZER;CN="Athens Comedy":MAILTO:behindthedial@gmail.com
END:VEVENT
BEGIN:VEVENT
DTSTART;TZID=UTC:20290507T210000
DTEND;TZID=UTC:20290507T230000
DTSTAMP:20260419T220257
CREATED:20240116T035044Z
LAST-MODIFIED:20240817T134825Z
UID:10007582-1872882000-1872889200@athenscomedy.com
SUMMARY:Wondermic Open Mic at Wonder Bar
DESCRIPTION:Come on out for some mic time on Mondays!   Show up and go up 9:30 pm start 9:00 list.
URL:https://athenscomedy.com/event/sake-bomb-open-mic-at-cozy-bar/2029-05-07/
LOCATION:Wonder Bar\, 240 East Washington St\, Athens\, GA\, United States
ATTACH;FMTTYPE=image/png:https://athenscomedy.com/wp-content/uploads/2024/01/OPEN-MIC-every-monday-930-start-9pm-list.png
ORGANIZER;CN="Athens Comedy":MAILTO:behindthedial@gmail.com
END:VEVENT
BEGIN:VEVENT
DTSTART;TZID=UTC:20290513T210000
DTEND;TZID=UTC:20290513T223000
DTSTAMP:20260419T220257
CREATED:20250315T041736Z
LAST-MODIFIED:20250502T074746Z
UID:10009324-1873400400-1873405800@athenscomedy.com
SUMMARY:Off the Clock Comedy Upstairs at the Globe
DESCRIPTION:Join us every Sunday night at the Globe Upstairs for Off the Clock Comedy! see Headlining and Feature Standup Comedians from across the region along with your favorite local comedians every single week. This show features some of the best comedians from all across the southeast and beyond. Every week\, see new comics and enjoy Sunday night downtown at the Globe with plenty of Free Parking and drink specials at the bar.  Show at 9pm Doors at 8:30 \nTickets available at the bottom of the athenscomedy.com home page!
URL:https://athenscomedy.com/event/off-the-clock-comedy-upstairs-at-the-globe-2/2029-05-13/
LOCATION:Globe\, 199 S. Lumpkin St\, Athens\, 30601\, United States
ATTACH;FMTTYPE=image/png:https://athenscomedy.com/wp-content/uploads/2024/01/Untitled-design-copy.png
ORGANIZER;CN="Athens Comedy":MAILTO:behindthedial@gmail.com
END:VEVENT
BEGIN:VEVENT
DTSTART;TZID=UTC:20290514T210000
DTEND;TZID=UTC:20290514T230000
DTSTAMP:20260419T220257
CREATED:20240116T035044Z
LAST-MODIFIED:20240817T134825Z
UID:10007583-1873486800-1873494000@athenscomedy.com
SUMMARY:Wondermic Open Mic at Wonder Bar
DESCRIPTION:Come on out for some mic time on Mondays!   Show up and go up 9:30 pm start 9:00 list.
URL:https://athenscomedy.com/event/sake-bomb-open-mic-at-cozy-bar/2029-05-14/
LOCATION:Wonder Bar\, 240 East Washington St\, Athens\, GA\, United States
ATTACH;FMTTYPE=image/png:https://athenscomedy.com/wp-content/uploads/2024/01/OPEN-MIC-every-monday-930-start-9pm-list.png
ORGANIZER;CN="Athens Comedy":MAILTO:behindthedial@gmail.com
END:VEVENT
BEGIN:VEVENT
DTSTART;TZID=UTC:20290520T210000
DTEND;TZID=UTC:20290520T223000
DTSTAMP:20260419T220257
CREATED:20250315T041736Z
LAST-MODIFIED:20250502T074746Z
UID:10009325-1874005200-1874010600@athenscomedy.com
SUMMARY:Off the Clock Comedy Upstairs at the Globe
DESCRIPTION:Join us every Sunday night at the Globe Upstairs for Off the Clock Comedy! see Headlining and Feature Standup Comedians from across the region along with your favorite local comedians every single week. This show features some of the best comedians from all across the southeast and beyond. Every week\, see new comics and enjoy Sunday night downtown at the Globe with plenty of Free Parking and drink specials at the bar.  Show at 9pm Doors at 8:30 \nTickets available at the bottom of the athenscomedy.com home page!
URL:https://athenscomedy.com/event/off-the-clock-comedy-upstairs-at-the-globe-2/2029-05-20/
LOCATION:Globe\, 199 S. Lumpkin St\, Athens\, 30601\, United States
ATTACH;FMTTYPE=image/png:https://athenscomedy.com/wp-content/uploads/2024/01/Untitled-design-copy.png
ORGANIZER;CN="Athens Comedy":MAILTO:behindthedial@gmail.com
END:VEVENT
BEGIN:VEVENT
DTSTART;TZID=UTC:20290521T210000
DTEND;TZID=UTC:20290521T230000
DTSTAMP:20260419T220257
CREATED:20240116T035044Z
LAST-MODIFIED:20240817T134825Z
UID:10007584-1874091600-1874098800@athenscomedy.com
SUMMARY:Wondermic Open Mic at Wonder Bar
DESCRIPTION:Come on out for some mic time on Mondays!   Show up and go up 9:30 pm start 9:00 list.
URL:https://athenscomedy.com/event/sake-bomb-open-mic-at-cozy-bar/2029-05-21/
LOCATION:Wonder Bar\, 240 East Washington St\, Athens\, GA\, United States
ATTACH;FMTTYPE=image/png:https://athenscomedy.com/wp-content/uploads/2024/01/OPEN-MIC-every-monday-930-start-9pm-list.png
ORGANIZER;CN="Athens Comedy":MAILTO:behindthedial@gmail.com
END:VEVENT
BEGIN:VEVENT
DTSTART;TZID=UTC:20290527T210000
DTEND;TZID=UTC:20290527T223000
DTSTAMP:20260419T220257
CREATED:20250315T041736Z
LAST-MODIFIED:20250502T074746Z
UID:10007607-1874610000-1874615400@athenscomedy.com
SUMMARY:Off the Clock Comedy Upstairs at the Globe
DESCRIPTION:Join us every Sunday night at the Globe Upstairs for Off the Clock Comedy! see Headlining and Feature Standup Comedians from across the region along with your favorite local comedians every single week. This show features some of the best comedians from all across the southeast and beyond. Every week\, see new comics and enjoy Sunday night downtown at the Globe with plenty of Free Parking and drink specials at the bar.  Show at 9pm Doors at 8:30 \nTickets available at the bottom of the athenscomedy.com home page!
URL:https://athenscomedy.com/event/off-the-clock-comedy-upstairs-at-the-globe-2/2029-05-27/
LOCATION:Globe\, 199 S. Lumpkin St\, Athens\, 30601\, United States
ATTACH;FMTTYPE=image/png:https://athenscomedy.com/wp-content/uploads/2024/01/Untitled-design-copy.png
ORGANIZER;CN="Athens Comedy":MAILTO:behindthedial@gmail.com
END:VEVENT
BEGIN:VEVENT
DTSTART;TZID=UTC:20290528T210000
DTEND;TZID=UTC:20290528T230000
DTSTAMP:20260419T220257
CREATED:20240116T035044Z
LAST-MODIFIED:20240817T134825Z
UID:10007585-1874696400-1874703600@athenscomedy.com
SUMMARY:Wondermic Open Mic at Wonder Bar
DESCRIPTION:Come on out for some mic time on Mondays!   Show up and go up 9:30 pm start 9:00 list.
URL:https://athenscomedy.com/event/sake-bomb-open-mic-at-cozy-bar/2029-05-28/
LOCATION:Wonder Bar\, 240 East Washington St\, Athens\, GA\, United States
ATTACH;FMTTYPE=image/png:https://athenscomedy.com/wp-content/uploads/2024/01/OPEN-MIC-every-monday-930-start-9pm-list.png
ORGANIZER;CN="Athens Comedy":MAILTO:behindthedial@gmail.com
END:VEVENT
BEGIN:VEVENT
DTSTART;TZID=UTC:20290603T210000
DTEND;TZID=UTC:20290603T223000
DTSTAMP:20260419T220257
CREATED:20250315T041736Z
LAST-MODIFIED:20250502T074746Z
UID:10009326-1875214800-1875220200@athenscomedy.com
SUMMARY:Off the Clock Comedy Upstairs at the Globe
DESCRIPTION:Join us every Sunday night at the Globe Upstairs for Off the Clock Comedy! see Headlining and Feature Standup Comedians from across the region along with your favorite local comedians every single week. This show features some of the best comedians from all across the southeast and beyond. Every week\, see new comics and enjoy Sunday night downtown at the Globe with plenty of Free Parking and drink specials at the bar.  Show at 9pm Doors at 8:30 \nTickets available at the bottom of the athenscomedy.com home page!
URL:https://athenscomedy.com/event/off-the-clock-comedy-upstairs-at-the-globe-2/2029-06-03/
LOCATION:Globe\, 199 S. Lumpkin St\, Athens\, 30601\, United States
ATTACH;FMTTYPE=image/png:https://athenscomedy.com/wp-content/uploads/2024/01/Untitled-design-copy.png
ORGANIZER;CN="Athens Comedy":MAILTO:behindthedial@gmail.com
END:VEVENT
BEGIN:VEVENT
DTSTART;TZID=UTC:20290604T210000
DTEND;TZID=UTC:20290604T230000
DTSTAMP:20260419T220257
CREATED:20240116T035044Z
LAST-MODIFIED:20240817T134825Z
UID:10007586-1875301200-1875308400@athenscomedy.com
SUMMARY:Wondermic Open Mic at Wonder Bar
DESCRIPTION:Come on out for some mic time on Mondays!   Show up and go up 9:30 pm start 9:00 list.
URL:https://athenscomedy.com/event/sake-bomb-open-mic-at-cozy-bar/2029-06-04/
LOCATION:Wonder Bar\, 240 East Washington St\, Athens\, GA\, United States
ATTACH;FMTTYPE=image/png:https://athenscomedy.com/wp-content/uploads/2024/01/OPEN-MIC-every-monday-930-start-9pm-list.png
ORGANIZER;CN="Athens Comedy":MAILTO:behindthedial@gmail.com
END:VEVENT
BEGIN:VEVENT
DTSTART;TZID=UTC:20290610T210000
DTEND;TZID=UTC:20290610T223000
DTSTAMP:20260419T220257
CREATED:20250315T041736Z
LAST-MODIFIED:20250502T074746Z
UID:10009327-1875819600-1875825000@athenscomedy.com
SUMMARY:Off the Clock Comedy Upstairs at the Globe
DESCRIPTION:Join us every Sunday night at the Globe Upstairs for Off the Clock Comedy! see Headlining and Feature Standup Comedians from across the region along with your favorite local comedians every single week. This show features some of the best comedians from all across the southeast and beyond. Every week\, see new comics and enjoy Sunday night downtown at the Globe with plenty of Free Parking and drink specials at the bar.  Show at 9pm Doors at 8:30 \nTickets available at the bottom of the athenscomedy.com home page!
URL:https://athenscomedy.com/event/off-the-clock-comedy-upstairs-at-the-globe-2/2029-06-10/
LOCATION:Globe\, 199 S. Lumpkin St\, Athens\, 30601\, United States
ATTACH;FMTTYPE=image/png:https://athenscomedy.com/wp-content/uploads/2024/01/Untitled-design-copy.png
ORGANIZER;CN="Athens Comedy":MAILTO:behindthedial@gmail.com
END:VEVENT
BEGIN:VEVENT
DTSTART;TZID=UTC:20290611T210000
DTEND;TZID=UTC:20290611T230000
DTSTAMP:20260419T220257
CREATED:20240116T035044Z
LAST-MODIFIED:20240817T134825Z
UID:10007587-1875906000-1875913200@athenscomedy.com
SUMMARY:Wondermic Open Mic at Wonder Bar
DESCRIPTION:Come on out for some mic time on Mondays!   Show up and go up 9:30 pm start 9:00 list.
URL:https://athenscomedy.com/event/sake-bomb-open-mic-at-cozy-bar/2029-06-11/
LOCATION:Wonder Bar\, 240 East Washington St\, Athens\, GA\, United States
ATTACH;FMTTYPE=image/png:https://athenscomedy.com/wp-content/uploads/2024/01/OPEN-MIC-every-monday-930-start-9pm-list.png
ORGANIZER;CN="Athens Comedy":MAILTO:behindthedial@gmail.com
END:VEVENT
END:VCALENDAR