BEGIN:VCALENDAR
VERSION:2.0
PRODID:-// - ECPv6.15.20//NONSGML v1.0//EN
CALSCALE:GREGORIAN
METHOD:PUBLISH
X-ORIGINAL-URL:https://athenscomedy.com
X-WR-CALDESC:Events for 
REFRESH-INTERVAL;VALUE=DURATION:PT1H
X-Robots-Tag:noindex
X-PUBLISHED-TTL:PT1H
BEGIN:VTIMEZONE
TZID:UTC
BEGIN:STANDARD
TZOFFSETFROM:+0000
TZOFFSETTO:+0000
TZNAME:UTC
DTSTART:20250101T000000
END:STANDARD
END:VTIMEZONE
BEGIN:VEVENT
DTSTART;TZID=UTC:20260820T080000
DTEND;TZID=UTC:20260820T170000
DTSTAMP:20260420T032031
CREATED:20240924T223730Z
LAST-MODIFIED:20240924T223730Z
UID:10007656-1787212800-1787245200@athenscomedy.com
SUMMARY:Heads or Cocktails at Little Kings
DESCRIPTION:Join Dick Loverboy for a live Trivia Podcast at the Shuffle Club at Little Kings every Third Thursday of the month.  This show is a ton of fun and features some of Athens\, Georgia’s most infamous competing in an interactive trivia game show.  Come on down to Little Kings on the third Thursday of the month for a trivia show themed with a cocktail of the night and a panel of festive townie types!
URL:https://athenscomedy.com/event/heads-or-cocktails-at-little-kings/2026-08-20/
LOCATION:Little Kings Shuffle Club\, 223 West Hancock Ave\, Athens\, 30601\, United States
ATTACH;FMTTYPE=image/jpeg:https://athenscomedy.com/wp-content/uploads/2024/09/IMG_8473.jpeg
END:VEVENT
BEGIN:VEVENT
DTSTART;TZID=UTC:20260821T193000
DTEND;TZID=UTC:20260821T210000
DTSTAMP:20260420T032031
CREATED:20230331T164404Z
LAST-MODIFIED:20231017T151216Z
UID:10003252-1787340600-1787346000@athenscomedy.com
SUMMARY:Keep it Clean!  Comedy with Lanny Farmer
DESCRIPTION:Every second Friday of the month head out to Bethlehem for a clean show with laughs for the whole family.  Featuring comedians from Athens and Atlanta and hosted by the great Lanny Farmer\, this show is sure to knock your socks off.  Enjoy some coffee and see great comedy all for free!
URL:https://athenscomedy.com/event/keep-it-clean-comedy-with-lanny-farmer-2/2026-08-21/
LOCATION:Jittery Joe’s Barrow\, 656 Exchange Cir\, Bethlehem\, GA\, United States
ATTACH;FMTTYPE=image/png:https://athenscomedy.com/wp-content/uploads/2023/03/Screen-Shot-2023-03-15-at-11.57.40-PM.png
END:VEVENT
BEGIN:VEVENT
DTSTART;TZID=UTC:20260823T210000
DTEND;TZID=UTC:20260823T223000
DTSTAMP:20260420T032031
CREATED:20250315T041736Z
LAST-MODIFIED:20250502T074746Z
UID:10005759-1787518800-1787524200@athenscomedy.com
SUMMARY:Off the Clock Comedy Upstairs at the Globe
DESCRIPTION:Join us every Sunday night at the Globe Upstairs for Off the Clock Comedy! see Headlining and Feature Standup Comedians from across the region along with your favorite local comedians every single week. This show features some of the best comedians from all across the southeast and beyond. Every week\, see new comics and enjoy Sunday night downtown at the Globe with plenty of Free Parking and drink specials at the bar.  Show at 9pm Doors at 8:30 \nTickets available at the bottom of the athenscomedy.com home page!
URL:https://athenscomedy.com/event/off-the-clock-comedy-upstairs-at-the-globe-2/2026-08-23/
LOCATION:Globe\, 199 S. Lumpkin St\, Athens\, 30601\, United States
ATTACH;FMTTYPE=image/png:https://athenscomedy.com/wp-content/uploads/2024/01/Untitled-design-copy.png
ORGANIZER;CN="Athens Comedy":MAILTO:behindthedial@gmail.com
END:VEVENT
BEGIN:VEVENT
DTSTART;TZID=UTC:20260824T210000
DTEND;TZID=UTC:20260824T230000
DTSTAMP:20260420T032031
CREATED:20240116T035044Z
LAST-MODIFIED:20240817T134825Z
UID:10006064-1787605200-1787612400@athenscomedy.com
SUMMARY:Wondermic Open Mic at Wonder Bar
DESCRIPTION:Come on out for some mic time on Mondays!   Show up and go up 9:30 pm start 9:00 list.
URL:https://athenscomedy.com/event/sake-bomb-open-mic-at-cozy-bar/2026-08-24/
LOCATION:Wonder Bar\, 240 East Washington St\, Athens\, GA\, United States
ATTACH;FMTTYPE=image/png:https://athenscomedy.com/wp-content/uploads/2024/01/OPEN-MIC-every-monday-930-start-9pm-list.png
ORGANIZER;CN="Athens Comedy":MAILTO:behindthedial@gmail.com
END:VEVENT
BEGIN:VEVENT
DTSTART;TZID=UTC:20260825T200000
DTEND;TZID=UTC:20260825T210000
DTSTAMP:20260420T032031
CREATED:20230509T215503Z
LAST-MODIFIED:20250618T195135Z
UID:10009805-1787688000-1787691600@athenscomedy.com
SUMMARY:Open Improv Jam
DESCRIPTION:Every Tuesday at Flying Squid on Fritz Mar Lane join the Open Improv Jam.
URL:https://athenscomedy.com/event/open-improv-jam/2026-08-25/
LOCATION:Fritz Mar Lane\, 150 Fritz Mar Lane\, Athens\, 30607\, United States
ATTACH;FMTTYPE=image/jpeg:https://athenscomedy.com/wp-content/uploads/2023/05/IMG_9202.jpg
END:VEVENT
BEGIN:VEVENT
DTSTART;TZID=UTC:20260826T190000
DTEND;TZID=UTC:20260826T210000
DTSTAMP:20260420T032031
CREATED:20231113T182604Z
LAST-MODIFIED:20231114T211700Z
UID:10005173-1787770800-1787778000@athenscomedy.com
SUMMARY:Gorgeous George's Improv League
DESCRIPTION:Home-grown townie improv that invites you to bring some interesting suggestions to help create improv magic on the spot. Every Wednesday\, 7 p.m. $5 suggested donation. www.flyingsquidcomedy.com
URL:https://athenscomedy.com/event/gorgeous-georges-improv-league/2026-08-26/
LOCATION:Buvez Athens\, 585 Barber St\, Athens\, 30601\, United States
ATTACH;FMTTYPE=image/png:https://athenscomedy.com/wp-content/uploads/2023/11/Screen-Shot-2023-11-13-at-1.19.11-PM.png
END:VEVENT
BEGIN:VEVENT
DTSTART;TZID=UTC:20260826T200000
DTEND;TZID=UTC:20260826T213000
DTSTAMP:20260420T032031
CREATED:20230720T151928Z
LAST-MODIFIED:20250315T025603Z
UID:10004003-1787774400-1787779800@athenscomedy.com
SUMMARY:Open Mic at Mai Kai
DESCRIPTION:Open Mic every Wednesday at Mai Kai Kava Lounge on Baxter Street. Music\, Comedy\, Poetry\, Hip-Hop\, Storytelling…anything goes and will here at this engaging open mic.  Grab some kava and hang.  8pm Free!
URL:https://athenscomedy.com/event/open-mic-at-mai-kai-with-cardynal/2026-08-26/
LOCATION:Mai Kai Kava Lounge\, 1035 Baxter St\, Athens\, GA\, GA\, 30606\, United States
ATTACH;FMTTYPE=image/jpeg:https://athenscomedy.com/wp-content/uploads/2023/07/0CA23EAC-7321-44DC-8E99-9C1ED149AF48.jpeg
END:VEVENT
BEGIN:VEVENT
DTSTART;TZID=UTC:20260829T200000
DTEND;TZID=UTC:20260829T213000
DTSTAMP:20260420T032031
CREATED:20240104T161605Z
LAST-MODIFIED:20240513T151208Z
UID:10006978-1788033600-1788039000@athenscomedy.com
SUMMARY:Standup Comedy at Foxglove Plant Bar hosted by Lanny Farmer
DESCRIPTION:Catch live Standup Comedy hosted by Lanny Farmer at Foxglove Plant Bar on Baxter Street.  Get some laughs while hanging in a beautiful plant bar with exotic and happy plants of all kinds.  Featuring an amazing lineup of comedians and hosted by the great Lanny Farmer.
URL:https://athenscomedy.com/event/standup-comedy-at-foxglove-plant-bar-hosted-by-lanny-farmer/2026-08-29/
LOCATION:Foxglove Plant Bar\, 1063 Baxter Street Suite 600\, Athens\, United States
ATTACH;FMTTYPE=image/png:https://athenscomedy.com/wp-content/uploads/2024/01/Screenshot-2024-01-04-at-11.08.05 AM.png
END:VEVENT
BEGIN:VEVENT
DTSTART;TZID=UTC:20260829T210000
DTEND;TZID=UTC:20260829T230000
DTSTAMP:20260420T032031
CREATED:20230316T162649Z
LAST-MODIFIED:20230331T165221Z
UID:10003003-1788037200-1788044400@athenscomedy.com
SUMMARY:O-Bomb Comedy with Andrew Weaver
DESCRIPTION:Every last Saturday swing by Sister Louisa’s Church for live standup comedy hosted by Andrew Weaver.  This is a booked showcase with some amazing comedians from the region.  It’s a free show starting at 9pm in the stage room of Church bar.
URL:https://athenscomedy.com/event/o-bomb-comedy-with-andrew-weaver/2026-08-29/
LOCATION:Siter Louisa’s Church\, 254 W Clayton St\, Athens\, GA\, United States
ATTACH;FMTTYPE=image/jpeg:https://athenscomedy.com/wp-content/uploads/2023/03/IMG_8139.jpg
END:VEVENT
BEGIN:VEVENT
DTSTART;TZID=UTC:20260830T210000
DTEND;TZID=UTC:20260830T223000
DTSTAMP:20260420T032031
CREATED:20250315T041736Z
LAST-MODIFIED:20250502T074746Z
UID:10009215-1788123600-1788129000@athenscomedy.com
SUMMARY:Off the Clock Comedy Upstairs at the Globe
DESCRIPTION:Join us every Sunday night at the Globe Upstairs for Off the Clock Comedy! see Headlining and Feature Standup Comedians from across the region along with your favorite local comedians every single week. This show features some of the best comedians from all across the southeast and beyond. Every week\, see new comics and enjoy Sunday night downtown at the Globe with plenty of Free Parking and drink specials at the bar.  Show at 9pm Doors at 8:30 \nTickets available at the bottom of the athenscomedy.com home page!
URL:https://athenscomedy.com/event/off-the-clock-comedy-upstairs-at-the-globe-2/2026-08-30/
LOCATION:Globe\, 199 S. Lumpkin St\, Athens\, 30601\, United States
ATTACH;FMTTYPE=image/png:https://athenscomedy.com/wp-content/uploads/2024/01/Untitled-design-copy.png
ORGANIZER;CN="Athens Comedy":MAILTO:behindthedial@gmail.com
END:VEVENT
BEGIN:VEVENT
DTSTART;TZID=UTC:20260831T210000
DTEND;TZID=UTC:20260831T230000
DTSTAMP:20260420T032031
CREATED:20240116T035044Z
LAST-MODIFIED:20240817T134825Z
UID:10006065-1788210000-1788217200@athenscomedy.com
SUMMARY:Wondermic Open Mic at Wonder Bar
DESCRIPTION:Come on out for some mic time on Mondays!   Show up and go up 9:30 pm start 9:00 list.
URL:https://athenscomedy.com/event/sake-bomb-open-mic-at-cozy-bar/2026-08-31/
LOCATION:Wonder Bar\, 240 East Washington St\, Athens\, GA\, United States
ATTACH;FMTTYPE=image/png:https://athenscomedy.com/wp-content/uploads/2024/01/OPEN-MIC-every-monday-930-start-9pm-list.png
ORGANIZER;CN="Athens Comedy":MAILTO:behindthedial@gmail.com
END:VEVENT
BEGIN:VEVENT
DTSTART;TZID=UTC:20260901T200000
DTEND;TZID=UTC:20260901T210000
DTSTAMP:20260420T032031
CREATED:20230509T215503Z
LAST-MODIFIED:20250618T195135Z
UID:10009806-1788292800-1788296400@athenscomedy.com
SUMMARY:Open Improv Jam
DESCRIPTION:Every Tuesday at Flying Squid on Fritz Mar Lane join the Open Improv Jam.
URL:https://athenscomedy.com/event/open-improv-jam/2026-09-01/
LOCATION:Fritz Mar Lane\, 150 Fritz Mar Lane\, Athens\, 30607\, United States
ATTACH;FMTTYPE=image/jpeg:https://athenscomedy.com/wp-content/uploads/2023/05/IMG_9202.jpg
END:VEVENT
BEGIN:VEVENT
DTSTART;TZID=UTC:20260902T190000
DTEND;TZID=UTC:20260902T210000
DTSTAMP:20260420T032031
CREATED:20231113T182604Z
LAST-MODIFIED:20231114T211700Z
UID:10005174-1788375600-1788382800@athenscomedy.com
SUMMARY:Gorgeous George's Improv League
DESCRIPTION:Home-grown townie improv that invites you to bring some interesting suggestions to help create improv magic on the spot. Every Wednesday\, 7 p.m. $5 suggested donation. www.flyingsquidcomedy.com
URL:https://athenscomedy.com/event/gorgeous-georges-improv-league/2026-09-02/
LOCATION:Buvez Athens\, 585 Barber St\, Athens\, 30601\, United States
ATTACH;FMTTYPE=image/png:https://athenscomedy.com/wp-content/uploads/2023/11/Screen-Shot-2023-11-13-at-1.19.11-PM.png
END:VEVENT
BEGIN:VEVENT
DTSTART;TZID=UTC:20260902T200000
DTEND;TZID=UTC:20260902T213000
DTSTAMP:20260420T032031
CREATED:20230627T180958Z
LAST-MODIFIED:20230730T005017Z
UID:10004164-1788379200-1788384600@athenscomedy.com
SUMMARY:Comedy Night at The Root with Lanny Farmer
DESCRIPTION:Every first Wednesday catch live standup comedy at the Root – the basement bar underneath the Pine.  Every month\, Lanny Farmer hosts a feature lineup of regional & touring comedians in the heart of Five Points.  Admission is FREE!  Buy these comics a drink!
URL:https://athenscomedy.com/event/comedy-night-at-the-root-with-lanny-farmer-2/2026-09-02/
LOCATION:The Root\, 1235 S Milledge Ave\, Athens\, GA\, United States
ATTACH;FMTTYPE=image/png:https://athenscomedy.com/wp-content/uploads/2023/03/Screen-Shot-2023-03-16-at-12.03.20-AM.png
END:VEVENT
BEGIN:VEVENT
DTSTART;TZID=UTC:20260902T200000
DTEND;TZID=UTC:20260902T213000
DTSTAMP:20260420T032031
CREATED:20230720T151928Z
LAST-MODIFIED:20250315T025603Z
UID:10004004-1788379200-1788384600@athenscomedy.com
SUMMARY:Open Mic at Mai Kai
DESCRIPTION:Open Mic every Wednesday at Mai Kai Kava Lounge on Baxter Street. Music\, Comedy\, Poetry\, Hip-Hop\, Storytelling…anything goes and will here at this engaging open mic.  Grab some kava and hang.  8pm Free!
URL:https://athenscomedy.com/event/open-mic-at-mai-kai-with-cardynal/2026-09-02/
LOCATION:Mai Kai Kava Lounge\, 1035 Baxter St\, Athens\, GA\, GA\, 30606\, United States
ATTACH;FMTTYPE=image/jpeg:https://athenscomedy.com/wp-content/uploads/2023/07/0CA23EAC-7321-44DC-8E99-9C1ED149AF48.jpeg
END:VEVENT
BEGIN:VEVENT
DTSTART;TZID=UTC:20260906T210000
DTEND;TZID=UTC:20260906T223000
DTSTAMP:20260420T032031
CREATED:20250315T041736Z
LAST-MODIFIED:20250502T074746Z
UID:10009216-1788728400-1788733800@athenscomedy.com
SUMMARY:Off the Clock Comedy Upstairs at the Globe
DESCRIPTION:Join us every Sunday night at the Globe Upstairs for Off the Clock Comedy! see Headlining and Feature Standup Comedians from across the region along with your favorite local comedians every single week. This show features some of the best comedians from all across the southeast and beyond. Every week\, see new comics and enjoy Sunday night downtown at the Globe with plenty of Free Parking and drink specials at the bar.  Show at 9pm Doors at 8:30 \nTickets available at the bottom of the athenscomedy.com home page!
URL:https://athenscomedy.com/event/off-the-clock-comedy-upstairs-at-the-globe-2/2026-09-06/
LOCATION:Globe\, 199 S. Lumpkin St\, Athens\, 30601\, United States
ATTACH;FMTTYPE=image/png:https://athenscomedy.com/wp-content/uploads/2024/01/Untitled-design-copy.png
ORGANIZER;CN="Athens Comedy":MAILTO:behindthedial@gmail.com
END:VEVENT
BEGIN:VEVENT
DTSTART;TZID=UTC:20260907T210000
DTEND;TZID=UTC:20260907T230000
DTSTAMP:20260420T032031
CREATED:20240116T035044Z
LAST-MODIFIED:20240817T134825Z
UID:10006066-1788814800-1788822000@athenscomedy.com
SUMMARY:Wondermic Open Mic at Wonder Bar
DESCRIPTION:Come on out for some mic time on Mondays!   Show up and go up 9:30 pm start 9:00 list.
URL:https://athenscomedy.com/event/sake-bomb-open-mic-at-cozy-bar/2026-09-07/
LOCATION:Wonder Bar\, 240 East Washington St\, Athens\, GA\, United States
ATTACH;FMTTYPE=image/png:https://athenscomedy.com/wp-content/uploads/2024/01/OPEN-MIC-every-monday-930-start-9pm-list.png
ORGANIZER;CN="Athens Comedy":MAILTO:behindthedial@gmail.com
END:VEVENT
BEGIN:VEVENT
DTSTART;TZID=UTC:20260908T200000
DTEND;TZID=UTC:20260908T210000
DTSTAMP:20260420T032031
CREATED:20230509T215503Z
LAST-MODIFIED:20250618T195135Z
UID:10009807-1788897600-1788901200@athenscomedy.com
SUMMARY:Open Improv Jam
DESCRIPTION:Every Tuesday at Flying Squid on Fritz Mar Lane join the Open Improv Jam.
URL:https://athenscomedy.com/event/open-improv-jam/2026-09-08/
LOCATION:Fritz Mar Lane\, 150 Fritz Mar Lane\, Athens\, 30607\, United States
ATTACH;FMTTYPE=image/jpeg:https://athenscomedy.com/wp-content/uploads/2023/05/IMG_9202.jpg
END:VEVENT
BEGIN:VEVENT
DTSTART;TZID=UTC:20260909T190000
DTEND;TZID=UTC:20260909T210000
DTSTAMP:20260420T032031
CREATED:20231113T182604Z
LAST-MODIFIED:20231114T211700Z
UID:10005175-1788980400-1788987600@athenscomedy.com
SUMMARY:Gorgeous George's Improv League
DESCRIPTION:Home-grown townie improv that invites you to bring some interesting suggestions to help create improv magic on the spot. Every Wednesday\, 7 p.m. $5 suggested donation. www.flyingsquidcomedy.com
URL:https://athenscomedy.com/event/gorgeous-georges-improv-league/2026-09-09/
LOCATION:Buvez Athens\, 585 Barber St\, Athens\, 30601\, United States
ATTACH;FMTTYPE=image/png:https://athenscomedy.com/wp-content/uploads/2023/11/Screen-Shot-2023-11-13-at-1.19.11-PM.png
END:VEVENT
BEGIN:VEVENT
DTSTART;TZID=UTC:20260909T200000
DTEND;TZID=UTC:20260909T213000
DTSTAMP:20260420T032031
CREATED:20230720T151928Z
LAST-MODIFIED:20250315T025603Z
UID:10004005-1788984000-1788989400@athenscomedy.com
SUMMARY:Open Mic at Mai Kai
DESCRIPTION:Open Mic every Wednesday at Mai Kai Kava Lounge on Baxter Street. Music\, Comedy\, Poetry\, Hip-Hop\, Storytelling…anything goes and will here at this engaging open mic.  Grab some kava and hang.  8pm Free!
URL:https://athenscomedy.com/event/open-mic-at-mai-kai-with-cardynal/2026-09-09/
LOCATION:Mai Kai Kava Lounge\, 1035 Baxter St\, Athens\, GA\, GA\, 30606\, United States
ATTACH;FMTTYPE=image/jpeg:https://athenscomedy.com/wp-content/uploads/2023/07/0CA23EAC-7321-44DC-8E99-9C1ED149AF48.jpeg
END:VEVENT
BEGIN:VEVENT
DTSTART;TZID=UTC:20260913T210000
DTEND;TZID=UTC:20260913T223000
DTSTAMP:20260420T032031
CREATED:20250315T041736Z
LAST-MODIFIED:20250502T074746Z
UID:10009217-1789333200-1789338600@athenscomedy.com
SUMMARY:Off the Clock Comedy Upstairs at the Globe
DESCRIPTION:Join us every Sunday night at the Globe Upstairs for Off the Clock Comedy! see Headlining and Feature Standup Comedians from across the region along with your favorite local comedians every single week. This show features some of the best comedians from all across the southeast and beyond. Every week\, see new comics and enjoy Sunday night downtown at the Globe with plenty of Free Parking and drink specials at the bar.  Show at 9pm Doors at 8:30 \nTickets available at the bottom of the athenscomedy.com home page!
URL:https://athenscomedy.com/event/off-the-clock-comedy-upstairs-at-the-globe-2/2026-09-13/
LOCATION:Globe\, 199 S. Lumpkin St\, Athens\, 30601\, United States
ATTACH;FMTTYPE=image/png:https://athenscomedy.com/wp-content/uploads/2024/01/Untitled-design-copy.png
ORGANIZER;CN="Athens Comedy":MAILTO:behindthedial@gmail.com
END:VEVENT
BEGIN:VEVENT
DTSTART;TZID=UTC:20260914T210000
DTEND;TZID=UTC:20260914T230000
DTSTAMP:20260420T032031
CREATED:20240116T035044Z
LAST-MODIFIED:20240817T134825Z
UID:10006067-1789419600-1789426800@athenscomedy.com
SUMMARY:Wondermic Open Mic at Wonder Bar
DESCRIPTION:Come on out for some mic time on Mondays!   Show up and go up 9:30 pm start 9:00 list.
URL:https://athenscomedy.com/event/sake-bomb-open-mic-at-cozy-bar/2026-09-14/
LOCATION:Wonder Bar\, 240 East Washington St\, Athens\, GA\, United States
ATTACH;FMTTYPE=image/png:https://athenscomedy.com/wp-content/uploads/2024/01/OPEN-MIC-every-monday-930-start-9pm-list.png
ORGANIZER;CN="Athens Comedy":MAILTO:behindthedial@gmail.com
END:VEVENT
BEGIN:VEVENT
DTSTART;TZID=UTC:20260915T200000
DTEND;TZID=UTC:20260915T210000
DTSTAMP:20260420T032031
CREATED:20230509T215503Z
LAST-MODIFIED:20250618T195135Z
UID:10009808-1789502400-1789506000@athenscomedy.com
SUMMARY:Open Improv Jam
DESCRIPTION:Every Tuesday at Flying Squid on Fritz Mar Lane join the Open Improv Jam.
URL:https://athenscomedy.com/event/open-improv-jam/2026-09-15/
LOCATION:Fritz Mar Lane\, 150 Fritz Mar Lane\, Athens\, 30607\, United States
ATTACH;FMTTYPE=image/jpeg:https://athenscomedy.com/wp-content/uploads/2023/05/IMG_9202.jpg
END:VEVENT
BEGIN:VEVENT
DTSTART;TZID=UTC:20260915T210000
DTEND;TZID=UTC:20260915T230000
DTSTAMP:20260420T032031
CREATED:20240513T150743Z
LAST-MODIFIED:20240513T150744Z
UID:10006854-1789506000-1789513200@athenscomedy.com
SUMMARY:Open Toad Comedy Open Mic
DESCRIPTION:OpenTOAD is Athens’ longest running stand up comedy show.\n\nWhile we always have room for first timers looking into try their hand at comedy\, every show features some amazing established comedians from around Athens\, Atlanta\, and the rest of the country!  \n\nJoin us every 3rd Tuesday at Flicker Theater and Bar!\n\n\n\nMessage us to sign up if you’re interested!
URL:https://athenscomedy.com/event/open-toad-comedy-open-mic-2-2-2/2026-09-15/
LOCATION:Flicker Theater\, 263 W Washington St\, Athens\, GA\, United States
ATTACH;FMTTYPE=image/jpeg:https://athenscomedy.com/wp-content/uploads/2023/03/IMG_8133.jpg
END:VEVENT
BEGIN:VEVENT
DTSTART;TZID=UTC:20260916T190000
DTEND;TZID=UTC:20260916T210000
DTSTAMP:20260420T032031
CREATED:20231113T182604Z
LAST-MODIFIED:20231114T211700Z
UID:10005176-1789585200-1789592400@athenscomedy.com
SUMMARY:Gorgeous George's Improv League
DESCRIPTION:Home-grown townie improv that invites you to bring some interesting suggestions to help create improv magic on the spot. Every Wednesday\, 7 p.m. $5 suggested donation. www.flyingsquidcomedy.com
URL:https://athenscomedy.com/event/gorgeous-georges-improv-league/2026-09-16/
LOCATION:Buvez Athens\, 585 Barber St\, Athens\, 30601\, United States
ATTACH;FMTTYPE=image/png:https://athenscomedy.com/wp-content/uploads/2023/11/Screen-Shot-2023-11-13-at-1.19.11-PM.png
END:VEVENT
BEGIN:VEVENT
DTSTART;TZID=UTC:20260916T200000
DTEND;TZID=UTC:20260916T213000
DTSTAMP:20260420T032031
CREATED:20230606T180639Z
LAST-MODIFIED:20230613T132508Z
UID:10003571-1789588800-1789594200@athenscomedy.com
SUMMARY:Hendershot's Comedy Night
DESCRIPTION:Every third Wednesday of the month join Noell Appling for a showcase at Hendershot’s Coffee and Bar.  Featuring local and touring comedians\, this show is an incredible value and a great time.  This is one of the oldest shows in Athens with one of the most consistent lineups.  It’s also technically an open mic so anyone who signs up beforehand can get on the show.  This is a super fun show as it showcases local standups with touring pros.  Contact Noell to get on the bill!
URL:https://athenscomedy.com/event/hendershots-comedy-night-2-3/2026-09-16/
LOCATION:Hendershot’s\, 237 Prince Ave\, Athens\, GA\, 30601\, United States
ATTACH;FMTTYPE=image/jpeg:https://athenscomedy.com/wp-content/uploads/2023/03/6E36DFD4-F050-414E-BE81-FC7BC8B97ED1.jpg
END:VEVENT
BEGIN:VEVENT
DTSTART;TZID=UTC:20260916T200000
DTEND;TZID=UTC:20260916T213000
DTSTAMP:20260420T032031
CREATED:20230720T151928Z
LAST-MODIFIED:20250315T025603Z
UID:10004006-1789588800-1789594200@athenscomedy.com
SUMMARY:Open Mic at Mai Kai
DESCRIPTION:Open Mic every Wednesday at Mai Kai Kava Lounge on Baxter Street. Music\, Comedy\, Poetry\, Hip-Hop\, Storytelling…anything goes and will here at this engaging open mic.  Grab some kava and hang.  8pm Free!
URL:https://athenscomedy.com/event/open-mic-at-mai-kai-with-cardynal/2026-09-16/
LOCATION:Mai Kai Kava Lounge\, 1035 Baxter St\, Athens\, GA\, GA\, 30606\, United States
ATTACH;FMTTYPE=image/jpeg:https://athenscomedy.com/wp-content/uploads/2023/07/0CA23EAC-7321-44DC-8E99-9C1ED149AF48.jpeg
END:VEVENT
BEGIN:VEVENT
DTSTART;TZID=UTC:20260917T080000
DTEND;TZID=UTC:20260917T170000
DTSTAMP:20260420T032031
CREATED:20240924T223730Z
LAST-MODIFIED:20240924T223730Z
UID:10007657-1789632000-1789664400@athenscomedy.com
SUMMARY:Heads or Cocktails at Little Kings
DESCRIPTION:Join Dick Loverboy for a live Trivia Podcast at the Shuffle Club at Little Kings every Third Thursday of the month.  This show is a ton of fun and features some of Athens\, Georgia’s most infamous competing in an interactive trivia game show.  Come on down to Little Kings on the third Thursday of the month for a trivia show themed with a cocktail of the night and a panel of festive townie types!
URL:https://athenscomedy.com/event/heads-or-cocktails-at-little-kings/2026-09-17/
LOCATION:Little Kings Shuffle Club\, 223 West Hancock Ave\, Athens\, 30601\, United States
ATTACH;FMTTYPE=image/jpeg:https://athenscomedy.com/wp-content/uploads/2024/09/IMG_8473.jpeg
END:VEVENT
BEGIN:VEVENT
DTSTART;TZID=UTC:20260918T193000
DTEND;TZID=UTC:20260918T210000
DTSTAMP:20260420T032031
CREATED:20230331T164404Z
LAST-MODIFIED:20231017T151216Z
UID:10003253-1789759800-1789765200@athenscomedy.com
SUMMARY:Keep it Clean!  Comedy with Lanny Farmer
DESCRIPTION:Every second Friday of the month head out to Bethlehem for a clean show with laughs for the whole family.  Featuring comedians from Athens and Atlanta and hosted by the great Lanny Farmer\, this show is sure to knock your socks off.  Enjoy some coffee and see great comedy all for free!
URL:https://athenscomedy.com/event/keep-it-clean-comedy-with-lanny-farmer-2/2026-09-18/
LOCATION:Jittery Joe’s Barrow\, 656 Exchange Cir\, Bethlehem\, GA\, United States
ATTACH;FMTTYPE=image/png:https://athenscomedy.com/wp-content/uploads/2023/03/Screen-Shot-2023-03-15-at-11.57.40-PM.png
END:VEVENT
BEGIN:VEVENT
DTSTART;TZID=UTC:20260920T180000
DTEND;TZID=UTC:20260920T200000
DTSTAMP:20260420T032031
CREATED:20231018T145020Z
LAST-MODIFIED:20250315T030106Z
UID:10008152-1789927200-1789934400@athenscomedy.com
SUMMARY:Open Mic at Mai Kai Kava Lounge
DESCRIPTION:Third Sunday of every month at 6pm.  List at 5:30
URL:https://athenscomedy.com/event/open-mic-at-mai-kai-kava-lounge/2026-09-20/
LOCATION:Mai Kai Kava Lounge\, 1035 Baxter St\, Athens\, GA\, GA\, 30606\, United States
ATTACH;FMTTYPE=image/jpeg:https://athenscomedy.com/wp-content/uploads/2023/10/106FCC50-8F7B-497B-8A9E-090511CB94B8.jpeg
END:VEVENT
END:VCALENDAR